BEGIN:VCALENDAR
VERSION:2.0
PRODID:-//LeadHERship Global - ECPv6.15.20//NONSGML v1.0//EN
CALSCALE:GREGORIAN
METHOD:PUBLISH
X-ORIGINAL-URL:https://leadhershipglobal.com
X-WR-CALDESC:Events for LeadHERship Global
REFRESH-INTERVAL;VALUE=DURATION:PT1H
X-Robots-Tag:noindex
X-PUBLISHED-TTL:PT1H
BEGIN:VTIMEZONE
TZID:America/Chicago
BEGIN:DAYLIGHT
TZOFFSETFROM:-0600
TZOFFSETTO:-0500
TZNAME:CDT
DTSTART:20240310T080000
END:DAYLIGHT
BEGIN:STANDARD
TZOFFSETFROM:-0500
TZOFFSETTO:-0600
TZNAME:CST
DTSTART:20241103T070000
END:STANDARD
BEGIN:DAYLIGHT
TZOFFSETFROM:-0600
TZOFFSETTO:-0500
TZNAME:CDT
DTSTART:20250309T080000
END:DAYLIGHT
BEGIN:STANDARD
TZOFFSETFROM:-0500
TZOFFSETTO:-0600
TZNAME:CST
DTSTART:20251102T070000
END:STANDARD
BEGIN:DAYLIGHT
TZOFFSETFROM:-0600
TZOFFSETTO:-0500
TZNAME:CDT
DTSTART:20260308T080000
END:DAYLIGHT
BEGIN:STANDARD
TZOFFSETFROM:-0500
TZOFFSETTO:-0600
TZNAME:CST
DTSTART:20261101T070000
END:STANDARD
END:VTIMEZONE
BEGIN:VEVENT
DTSTART;TZID=America/Chicago:20250515T160000
DTEND;TZID=America/Chicago:20250515T170000
DTSTAMP:20260422T090424
CREATED:20250127T162553Z
LAST-MODIFIED:20250504T223430Z
UID:5023-1747324800-1747328400@leadhershipglobal.com
SUMMARY:Tips and Takeaways - Open Office Hours
DESCRIPTION:Register for the event \n\n\nJoin our “Tips and Takeaways” open office hours on Thursday\, May 15th at 4:00 pm CT / 5:00 pm ET – OR -Wednesday\, May 21st at 9:00 am CT / 10:00 ET! \n\nMay 15th at 2:00 pm PT / 4:00 pm CT / 5:00 pm ET\nhttps://us02web.zoom.us/meeting/register/tZAodO6uqT4vGNVyA28hstxwlyYdHpmv43Cs\nMay 21st at 7:00 am PT / 9:00 am CT / 10:00 am ET – https://us02web.zoom.us/meeting/register/tZYpd-Grpz8rGNy07IipVl8Jy2M7BgyUj_tj\n\nDiscover valuable resources\, essential tools\, and the latest announcements from LeadHERship Global! \nBe the first to learn about upcoming events and exclusive opportunities tailored specifically to your interests\, for a personalized experience designed just for you. \nWhether you’re seeking guidance\, opportunities\, inspiration\, or a community connection\, “Tips and Takeaways” is your one-stop destination for staying informed and empowered. Drop in\, explore\, and take away exactly what you need to thrive! \nJoin at 9:00 am CT on the third Wednesday of every month – or 4:00 pm CT on the third Thursday of every month!
URL:https://leadhershipglobal.com/event/tips-and-takeaways-office-hours-3/
LOCATION:Virtual Event
CATEGORIES:Tips and Takeaways
ATTACH;FMTTYPE=image/png:https://leadhershipglobal.com/wp-content/uploads/2025/01/T-T-Square.png
END:VEVENT
END:VCALENDAR