BEGIN:VCALENDAR
VERSION:2.0
PRODID:-//LeadHERship Global - ECPv6.15.20//NONSGML v1.0//EN
CALSCALE:GREGORIAN
METHOD:PUBLISH
X-ORIGINAL-URL:https://leadhershipglobal.com
X-WR-CALDESC:Events for LeadHERship Global
REFRESH-INTERVAL;VALUE=DURATION:PT1H
X-Robots-Tag:noindex
X-PUBLISHED-TTL:PT1H
BEGIN:VTIMEZONE
TZID:America/Chicago
BEGIN:DAYLIGHT
TZOFFSETFROM:-0600
TZOFFSETTO:-0500
TZNAME:CDT
DTSTART:20250309T080000
END:DAYLIGHT
BEGIN:STANDARD
TZOFFSETFROM:-0500
TZOFFSETTO:-0600
TZNAME:CST
DTSTART:20251102T070000
END:STANDARD
BEGIN:DAYLIGHT
TZOFFSETFROM:-0600
TZOFFSETTO:-0500
TZNAME:CDT
DTSTART:20260308T080000
END:DAYLIGHT
BEGIN:STANDARD
TZOFFSETFROM:-0500
TZOFFSETTO:-0600
TZNAME:CST
DTSTART:20261101T070000
END:STANDARD
BEGIN:DAYLIGHT
TZOFFSETFROM:-0600
TZOFFSETTO:-0500
TZNAME:CDT
DTSTART:20270314T080000
END:DAYLIGHT
BEGIN:STANDARD
TZOFFSETFROM:-0500
TZOFFSETTO:-0600
TZNAME:CST
DTSTART:20271107T070000
END:STANDARD
END:VTIMEZONE
BEGIN:VEVENT
DTSTART;TZID=America/Chicago:20260219T160000
DTEND;TZID=America/Chicago:20260219T170000
DTSTAMP:20260421T164704
CREATED:20260103T173016Z
LAST-MODIFIED:20260125T195304Z
UID:6115-1771516800-1771520400@leadhershipglobal.com
SUMMARY:Tips and Takeaways - Office Hours
DESCRIPTION:Register for the event \n\n\nJoin our “Tips and Takeaways” open office hours to discover valuable resources\, essential tools\, and the latest announcements from LeadHERship Global! \nBe the first to learn about upcoming events and exclusive opportunities tailored specifically to your interests\, for a personalized experience designed just for you. Whether you’re seeking guidance\, opportunities\, inspiration\, or a community connection\, “Tips and Takeaways” is your one-stop destination for staying informed and empowered.  Drop in\, explore\, and take away exactly what you need to thrive! \nJoin at 9:00 am CT on the third Thursday of every month at 2 pm PT / 4:00 pm CT / 5 pm ET!
URL:https://leadhershipglobal.com/event/tips-and-takeaways-5/
LOCATION:Virtual Event
CATEGORIES:Tips and Takeaways
ATTACH;FMTTYPE=image/png:https://leadhershipglobal.com/wp-content/uploads/2026/01/Tips-Takeaways-IG-Post.png
END:VEVENT
END:VCALENDAR