BEGIN:VCALENDAR
VERSION:2.0
PRODID:-//LeadHERship Global - ECPv6.15.20//NONSGML v1.0//EN
CALSCALE:GREGORIAN
METHOD:PUBLISH
X-WR-CALNAME:LeadHERship Global
X-ORIGINAL-URL:https://leadhershipglobal.com
X-WR-CALDESC:Events for LeadHERship Global
REFRESH-INTERVAL;VALUE=DURATION:PT1H
X-Robots-Tag:noindex
X-PUBLISHED-TTL:PT1H
BEGIN:VTIMEZONE
TZID:America/Chicago
BEGIN:DAYLIGHT
TZOFFSETFROM:-0600
TZOFFSETTO:-0500
TZNAME:CDT
DTSTART:20240310T080000
END:DAYLIGHT
BEGIN:STANDARD
TZOFFSETFROM:-0500
TZOFFSETTO:-0600
TZNAME:CST
DTSTART:20241103T070000
END:STANDARD
BEGIN:DAYLIGHT
TZOFFSETFROM:-0600
TZOFFSETTO:-0500
TZNAME:CDT
DTSTART:20250309T080000
END:DAYLIGHT
BEGIN:STANDARD
TZOFFSETFROM:-0500
TZOFFSETTO:-0600
TZNAME:CST
DTSTART:20251102T070000
END:STANDARD
BEGIN:DAYLIGHT
TZOFFSETFROM:-0600
TZOFFSETTO:-0500
TZNAME:CDT
DTSTART:20260308T080000
END:DAYLIGHT
BEGIN:STANDARD
TZOFFSETFROM:-0500
TZOFFSETTO:-0600
TZNAME:CST
DTSTART:20261101T070000
END:STANDARD
END:VTIMEZONE
BEGIN:VEVENT
DTSTART;TZID=America/Chicago:20251215T160000
DTEND;TZID=America/Chicago:20251215T170000
DTSTAMP:20260421T184623
CREATED:20251124T171403Z
LAST-MODIFIED:20251124T171403Z
UID:6091-1765814400-1765818000@leadhershipglobal.com
SUMMARY:The Entrepreneurial Exchange: The Mindset Shift that Unlocks Growth
DESCRIPTION:Register for the event \nMost entrepreneurs start their journey as self-employed professionals—wearing all the hats\, managing every detail\, and feeling trapped in a cycle of hustle. But true business growth doesn’t come from working harder; it comes from thinking differently. \nMost entrepreneurs stay stuck in “self-employed mode” working harder instead of smarter. They become bottlenecks in their own business\, limiting growth\, burning out\, and never achieving true financial freedom.  By shifting your focus from daily tasks to strategic growth\, you’ll gain the freedom\, revenue\, and stability needed to scale with confidence.  Join us to gain the tools\, insights\, and mindset shifts needed to step into your next level of success and create a business that fuels your life\, not runs it. \n\n\n\n\n\n\n\n\nExperience the transformative power of this mastermind and workshop as we empower you to achieve entrepreneurial success! This series combines a masterclass offering actionable insights that will propel your business forward with a hands-on workshop where we dive into your unique challenges and opportunities! \nConnect with like-minded business owners who are facing similar challenges\, creating a powerful network of support and collaboration to support your boldest business dreams. \nDon’t settle for mediocre results or incremental progress. During this power-packed roundtable\, you’ll gain the tools\, insights\, and motivation needed to unleash your full entrepreneurial potential\, and create the thriving business you’ve always envisioned! \n\n\n\n\n\n\n\nThis is a LeadHERship Global event and is open to all members of LeadHERship and prospective members. Guests\, either women or men\, may attend up to two of our events without being a member. Our membership is only open to women.
URL:https://leadhershipglobal.com/event/the-entrepreneurial-exchange-mindset-shift/
LOCATION:Virtual Event
CATEGORIES:The Entrepreneurial Exchange
ATTACH;FMTTYPE=image/png:https://leadhershipglobal.com/wp-content/uploads/2025/11/The-Entrepreneurial-Exchange-Instagram-Post-AT.png
END:VEVENT
BEGIN:VEVENT
DTSTART;TZID=America/Chicago:20251117T160000
DTEND;TZID=America/Chicago:20251117T170000
DTSTAMP:20260421T184623
CREATED:20240329T210941Z
LAST-MODIFIED:20251023T194427Z
UID:3952-1763395200-1763398800@leadhershipglobal.com
SUMMARY:The Entrepreneurial Exchange: The Internal Lens
DESCRIPTION:Register for the event \n\nWhile external strategies like sales\, marketing\, and customer relationships fuel growth\, internal misalignment can act as a silent anchor holding a business back. This session will challenge participants to pause\, audit\, and reset their internal operations to ensure they’re fully supporting their strategic goals. We’ll focus on how to evaluate and realign internal investments\, projects\, and resources so they’re primed to support growth\, scalability\, and even exit strategies. \n• Problem: Misaligned resources create inefficiencies and hidden costs\, eroding growth potential.\n• Solution: Proactively realign and reset for a roadmap that will maximize operational excellence and project ROI \n• Benefit: Participants leave with actionable insights to diagnose and address internal inefficiencies \nThis is a LeadHERship Global event and is open to all members of LeadHERship and prospective members. Guests\, either women or men\, may attend up to two of our events without being a member. Our membership is only open to women.
URL:https://leadhershipglobal.com/event/the-internal-lens/
LOCATION:Virtual Event
CATEGORIES:The Entrepreneurial Exchange
ATTACH;FMTTYPE=image/png:https://leadhershipglobal.com/wp-content/uploads/2024/03/The-Entrepreneurial-Exchange-Instagram-Post-DE.png
END:VEVENT
BEGIN:VEVENT
DTSTART;TZID=America/Chicago:20251020T160000
DTEND;TZID=America/Chicago:20251020T170000
DTSTAMP:20260421T184623
CREATED:20240221T191016Z
LAST-MODIFIED:20250923T175843Z
UID:3912-1760976000-1760979600@leadhershipglobal.com
SUMMARY:Strategic Marketing:  Unlock Growth and Scale
DESCRIPTION:Register for the event \n\nMarketing is considered a repeatable process to generate leads\, convert those leads into opportunities and then opportunities into clients while also generating additional projects through existing clients. To grow and scale your business\, you must be able to market your services in an effective manner\, focused on clear objectives\, measures of success\, and milestones.  The biggest opportunity is growing the number and value of projects with existing clients and through client referrals to new prospective clients\, which is far more valuable than mass market\, brand-focused activities.  Join us to discover a strategic marketing approach to grow and scale your firm through  effective marketing to both existing clients\, as well as new prospective clients — limiting leakage and wasted expense.
URL:https://leadhershipglobal.com/event/power-of-collaboration/
LOCATION:Virtual Event
CATEGORIES:The Entrepreneurial Exchange
ATTACH;FMTTYPE=image/png:https://leadhershipglobal.com/wp-content/uploads/2024/02/The-Entrepreneurial-Exchange-Instagram-Post-MT.png
END:VEVENT
BEGIN:VEVENT
DTSTART;TZID=America/Chicago:20250915T160000
DTEND;TZID=America/Chicago:20250915T170000
DTSTAMP:20260421T184623
CREATED:20250827T002550Z
LAST-MODIFIED:20250827T002606Z
UID:5970-1757952000-1757955600@leadhershipglobal.com
SUMMARY:Systems over Symptoms:  Drive Scalable Success
DESCRIPTION:Register for the event \n\nJoin us September 15th at 2:00 pm PT / 4:00 pm CT / 5:00 pm for “Systems over Symptoms: How Systems Over Symptoms Drive Scalable Success” with Cheryl Texeira for this month’s Entrepreneurial Exchange Roundtable! Simply register here: https://us02web.zoom.us/meeting/register/tZApd-6oqjorGdPtGgrGFCNI5D6LteqGFpZ1 \nScaling a business is one of the most rewarding yet challenging endeavors for any entrepreneur. As companies grow\, so do the complexities—customer demands increase\, operations become strained\, and teams struggle to keep pace. Many business owners find themselves stuck in a cycle of firefighting\, addressing surface-level issues like missed deadlines\, high turnover\, or customer complaints. These are symptoms of deeper inefficiencies\, and treating them with quick fixes only delays the inevitable: stagnation or burnout. \nAddressing symptoms keeps businesses stuck in survival mode but\, when you build systems to achieve scalable\, predictable\, and sustainable business growth you can achieve fast growth\, efficiency\, and long-term success! Simply register here: https://us02web.zoom.us/meeting/register/tZApd-6oqjorGdPtGgrGFCNI5D6LteqGFpZ1
URL:https://leadhershipglobal.com/event/systems-over-symptoms-drive-scalable-success/
LOCATION:Virtual Event
CATEGORIES:The Entrepreneurial Exchange
ATTACH;FMTTYPE=image/png:https://leadhershipglobal.com/wp-content/uploads/2025/08/The-Entrepreneurial-Exchange-Instagram-Post-CT-1.png
END:VEVENT
BEGIN:VEVENT
DTSTART;TZID=America/Chicago:20250818T160000
DTEND;TZID=America/Chicago:20250818T170000
DTSTAMP:20260421T184623
CREATED:20250724T153444Z
LAST-MODIFIED:20250724T153444Z
UID:5837-1755532800-1755536400@leadhershipglobal.com
SUMMARY:Pathways to Independence: Building a Business That Works for You
DESCRIPTION:Register for the event \n\nEvery business owner dreams of independence—whether that means working less\, focusing on what you love\, or preparing for a smooth exit.  But\, many business owners find themselves trapped in daily operations or unclear about the steps needed to create true independence. \nDiscover actionable pathways to reduce dependency on your involvement\, prioritize what you enjoy\, or prepare for a strategic and successful exit.  This session offers a dynamic platform to explore strategies and share insights on designing a business that aligns with your vision for freedom and fulfillment. \nEngage in interactive discussions to identify your ideal path to independence\, uncover barriers\, and explore strategies for delegation\, optimization\, and long-term planning. \nJoin us!
URL:https://leadhershipglobal.com/event/pathway-to-independence/
LOCATION:Virtual Event
CATEGORIES:The Entrepreneurial Exchange
ATTACH;FMTTYPE=image/png:https://leadhershipglobal.com/wp-content/uploads/2025/07/The-Entrepreneurial-Exchange-Instagram-Post-AB-1.png
END:VEVENT
BEGIN:VEVENT
DTSTART;TZID=America/Chicago:20250721T160000
DTEND;TZID=America/Chicago:20250721T170000
DTSTAMP:20260421T184623
CREATED:20250620T191133Z
LAST-MODIFIED:20250620T213840Z
UID:5458-1753113600-1753117200@leadhershipglobal.com
SUMMARY:Specialization:  Becoming a Category of One
DESCRIPTION:Register for the event \n\nSpecialization:  Becoming a Category of One!  In this context\, “Specialization” refers to your market position that clearly distinguishes your business from your competitors. Without clearly defining your specialization\, you are unable to compete for clients that are well-suited to your specific services\, win more business and accelerate your growth. Defining your unique positioning statement can lead to clarifying the firm’s overarching strategy\, making smarter hiring decisions\, defining your ideal client and more!  Join us to learn how to become the best in a well-defined niche – resulting in superior profitability\, growth\, and scale.
URL:https://leadhershipglobal.com/event/specialization/
LOCATION:Virtual Event
CATEGORIES:The Entrepreneurial Exchange
ATTACH;FMTTYPE=image/png:https://leadhershipglobal.com/wp-content/uploads/2025/06/The-Entrepreneurial-Exchange-Instagram-Post-CT.png
END:VEVENT
END:VCALENDAR