BEGIN:VCALENDAR
VERSION:2.0
PRODID:-//LeadHERship Global - ECPv6.15.20//NONSGML v1.0//EN
CALSCALE:GREGORIAN
METHOD:PUBLISH
X-ORIGINAL-URL:https://leadhershipglobal.com
X-WR-CALDESC:Events for LeadHERship Global
REFRESH-INTERVAL;VALUE=DURATION:PT1H
X-Robots-Tag:noindex
X-PUBLISHED-TTL:PT1H
BEGIN:VTIMEZONE
TZID:America/Chicago
BEGIN:DAYLIGHT
TZOFFSETFROM:-0600
TZOFFSETTO:-0500
TZNAME:CDT
DTSTART:20240310T080000
END:DAYLIGHT
BEGIN:STANDARD
TZOFFSETFROM:-0500
TZOFFSETTO:-0600
TZNAME:CST
DTSTART:20241103T070000
END:STANDARD
BEGIN:DAYLIGHT
TZOFFSETFROM:-0600
TZOFFSETTO:-0500
TZNAME:CDT
DTSTART:20250309T080000
END:DAYLIGHT
BEGIN:STANDARD
TZOFFSETFROM:-0500
TZOFFSETTO:-0600
TZNAME:CST
DTSTART:20251102T070000
END:STANDARD
BEGIN:DAYLIGHT
TZOFFSETFROM:-0600
TZOFFSETTO:-0500
TZNAME:CDT
DTSTART:20260308T080000
END:DAYLIGHT
BEGIN:STANDARD
TZOFFSETFROM:-0500
TZOFFSETTO:-0600
TZNAME:CST
DTSTART:20261101T070000
END:STANDARD
END:VTIMEZONE
BEGIN:VEVENT
DTSTART;TZID=America/Chicago:20250915T160000
DTEND;TZID=America/Chicago:20250915T170000
DTSTAMP:20260422T055428
CREATED:20250827T002550Z
LAST-MODIFIED:20250827T002606Z
UID:5970-1757952000-1757955600@leadhershipglobal.com
SUMMARY:Systems over Symptoms:  Drive Scalable Success
DESCRIPTION:Register for the event \n\nJoin us September 15th at 2:00 pm PT / 4:00 pm CT / 5:00 pm for “Systems over Symptoms: How Systems Over Symptoms Drive Scalable Success” with Cheryl Texeira for this month’s Entrepreneurial Exchange Roundtable! Simply register here: https://us02web.zoom.us/meeting/register/tZApd-6oqjorGdPtGgrGFCNI5D6LteqGFpZ1 \nScaling a business is one of the most rewarding yet challenging endeavors for any entrepreneur. As companies grow\, so do the complexities—customer demands increase\, operations become strained\, and teams struggle to keep pace. Many business owners find themselves stuck in a cycle of firefighting\, addressing surface-level issues like missed deadlines\, high turnover\, or customer complaints. These are symptoms of deeper inefficiencies\, and treating them with quick fixes only delays the inevitable: stagnation or burnout. \nAddressing symptoms keeps businesses stuck in survival mode but\, when you build systems to achieve scalable\, predictable\, and sustainable business growth you can achieve fast growth\, efficiency\, and long-term success! Simply register here: https://us02web.zoom.us/meeting/register/tZApd-6oqjorGdPtGgrGFCNI5D6LteqGFpZ1
URL:https://leadhershipglobal.com/event/systems-over-symptoms-drive-scalable-success/
LOCATION:Virtual Event
CATEGORIES:The Entrepreneurial Exchange
ATTACH;FMTTYPE=image/png:https://leadhershipglobal.com/wp-content/uploads/2025/08/The-Entrepreneurial-Exchange-Instagram-Post-CT-1.png
END:VEVENT
END:VCALENDAR