BEGIN:VCALENDAR
VERSION:2.0
PRODID:-//LeadHERship Global - ECPv6.15.20//NONSGML v1.0//EN
CALSCALE:GREGORIAN
METHOD:PUBLISH
X-WR-CALNAME:LeadHERship Global
X-ORIGINAL-URL:https://leadhershipglobal.com
X-WR-CALDESC:Events for LeadHERship Global
REFRESH-INTERVAL;VALUE=DURATION:PT1H
X-Robots-Tag:noindex
X-PUBLISHED-TTL:PT1H
BEGIN:VTIMEZONE
TZID:America/Chicago
BEGIN:DAYLIGHT
TZOFFSETFROM:-0600
TZOFFSETTO:-0500
TZNAME:CDT
DTSTART:20240310T080000
END:DAYLIGHT
BEGIN:STANDARD
TZOFFSETFROM:-0500
TZOFFSETTO:-0600
TZNAME:CST
DTSTART:20241103T070000
END:STANDARD
BEGIN:DAYLIGHT
TZOFFSETFROM:-0600
TZOFFSETTO:-0500
TZNAME:CDT
DTSTART:20250309T080000
END:DAYLIGHT
BEGIN:STANDARD
TZOFFSETFROM:-0500
TZOFFSETTO:-0600
TZNAME:CST
DTSTART:20251102T070000
END:STANDARD
BEGIN:DAYLIGHT
TZOFFSETFROM:-0600
TZOFFSETTO:-0500
TZNAME:CDT
DTSTART:20260308T080000
END:DAYLIGHT
BEGIN:STANDARD
TZOFFSETFROM:-0500
TZOFFSETTO:-0600
TZNAME:CST
DTSTART:20261101T070000
END:STANDARD
END:VTIMEZONE
BEGIN:VEVENT
DTSTART;TZID=America/Chicago:20250703T110000
DTEND;TZID=America/Chicago:20250703T120000
DTSTAMP:20260422T035311
CREATED:20250620T194251Z
LAST-MODIFIED:20250620T194302Z
UID:5461-1751540400-1751544000@leadhershipglobal.com
SUMMARY:Unlock The Playbook of BIG Brands!
DESCRIPTION:Register for the event \n\nUnlock The Playbook of BIG Brands: How to Scale Your Business with Bold Branding\, Strategy & a CEO-Level Mindset \nIn this impactful and practical masterclass\, international brand strategist Linda Ayoade of LOI Graphics Inc. shares the real strategies that Fortune 500 brands and industry powerhouses use to scale—and how business owners can adopt the same BIG brand mindset to build something lasting and profitable. \nThis session is designed to help founders\, entrepreneurs\, and business leaders stop thinking small and start leading with clarity\, confidence\, and brand-driven strategy. Linda will walk attendees through what it really takes to grow beyond a side hustle mentality and operate like a household name—even before you become one. \nWhat You Will Learn: \n✅ How to think like a BIG brand—even if you’re still growing \n✅ How to clarify your brand’s message to increase trust and connection with your audience \n✅ Why most businesses stay small—and how to shift out of survival mode for good \n✅ How to build a brand that aligns with your long-term business goals \n✅ The mindset shifts every brand leader must make to create real momentum \n✅ How to align your visual identity\, messaging\, and customer experience to create credibility and consistency \n✅ A behind-the-scenes look at how successful brands scale without burning out \nThis isn’t just a marketing class—it’s a full-on mindset and strategy shift for serious entrepreneurs who want to scale with purpose and power. If you’re tired of winging it and ready to lead like a BIG brand\, this is your moment.”
URL:https://leadhershipglobal.com/event/playbook-of-big-brands/
LOCATION:Virtual Event
CATEGORIES:Secrets of Scaling
ATTACH;FMTTYPE=image/png:https://leadhershipglobal.com/wp-content/uploads/2025/06/Speaker-Secrets-to-Scaling-Instagram-Post-LA.png
END:VEVENT
END:VCALENDAR