BEGIN:VCALENDAR
VERSION:2.0
PRODID:-//LeadHERship Global - ECPv6.15.20//NONSGML v1.0//EN
CALSCALE:GREGORIAN
METHOD:PUBLISH
X-WR-CALNAME:LeadHERship Global
X-ORIGINAL-URL:https://leadhershipglobal.com
X-WR-CALDESC:Events for LeadHERship Global
REFRESH-INTERVAL;VALUE=DURATION:PT1H
X-Robots-Tag:noindex
X-PUBLISHED-TTL:PT1H
BEGIN:VTIMEZONE
TZID:America/Chicago
BEGIN:DAYLIGHT
TZOFFSETFROM:-0600
TZOFFSETTO:-0500
TZNAME:CDT
DTSTART:20240310T080000
END:DAYLIGHT
BEGIN:STANDARD
TZOFFSETFROM:-0500
TZOFFSETTO:-0600
TZNAME:CST
DTSTART:20241103T070000
END:STANDARD
BEGIN:DAYLIGHT
TZOFFSETFROM:-0600
TZOFFSETTO:-0500
TZNAME:CDT
DTSTART:20250309T080000
END:DAYLIGHT
BEGIN:STANDARD
TZOFFSETFROM:-0500
TZOFFSETTO:-0600
TZNAME:CST
DTSTART:20251102T070000
END:STANDARD
BEGIN:DAYLIGHT
TZOFFSETFROM:-0600
TZOFFSETTO:-0500
TZNAME:CDT
DTSTART:20260308T080000
END:DAYLIGHT
BEGIN:STANDARD
TZOFFSETFROM:-0500
TZOFFSETTO:-0600
TZNAME:CST
DTSTART:20261101T070000
END:STANDARD
END:VTIMEZONE
BEGIN:VEVENT
DTSTART;TZID=America/Chicago:20251204T110000
DTEND;TZID=America/Chicago:20251204T120000
DTSTAMP:20260421T174953
CREATED:20251114T195825Z
LAST-MODIFIED:20251114T195825Z
UID:6087-1764846000-1764849600@leadhershipglobal.com
SUMMARY:Scaling with a Plan for Next Year
DESCRIPTION:Register for the event \n\nReady to make next year the year your business skyrockets? Scaling doesn’t happen by accident—it happens with a clear\, actionable plan that aligns your goals with strategies that actually work. Whether you’re aiming to grow your revenue\, expand your team\, or finally create more freedom in your schedule\, this workshop will show you exactly how to get there. \nThis isn’t about vague New Year’s resolutions or unrealistic goals—it’s about creating a roadmap you can follow step by step to scale with confidence. \nBy the end of this workshop\, you’ll have a rock-solid plan for scaling your business that feels doable\, exciting\, and totally aligned with your goals. Let’s make this year the one where you finally reach your full potential! \n* The 12-Month Growth Blueprint: Map out your entire year with quarterly milestones and actionable strategies\, so you know exactly what to focus on and when. \n* Revenue Scaling Strategies That Work: Learn the key ways to increase your income—whether that’s through refining your offers\, raising prices\, or adding scalable income streams. \n* How to Track Progress Without Burnout: Discover simple systems to measure your success\, stay on track\, and make adjustments along the way—without feeling overwhelmed.
URL:https://leadhershipglobal.com/event/scaling-with-a-plan-for-next-year/
LOCATION:Virtual Event
CATEGORIES:Secrets of Scaling
ATTACH;FMTTYPE=image/png:https://leadhershipglobal.com/wp-content/uploads/2025/11/Speaker-Secrets-to-Scaling-Instagram-Post-JT.png
END:VEVENT
END:VCALENDAR