BEGIN:VCALENDAR
VERSION:2.0
PRODID:-//LeadHERship Global - ECPv6.15.20//NONSGML v1.0//EN
CALSCALE:GREGORIAN
METHOD:PUBLISH
X-WR-CALNAME:LeadHERship Global
X-ORIGINAL-URL:https://leadhershipglobal.com
X-WR-CALDESC:Events for LeadHERship Global
REFRESH-INTERVAL;VALUE=DURATION:PT1H
X-Robots-Tag:noindex
X-PUBLISHED-TTL:PT1H
BEGIN:VTIMEZONE
TZID:America/Chicago
BEGIN:DAYLIGHT
TZOFFSETFROM:-0600
TZOFFSETTO:-0500
TZNAME:CDT
DTSTART:20240310T080000
END:DAYLIGHT
BEGIN:STANDARD
TZOFFSETFROM:-0500
TZOFFSETTO:-0600
TZNAME:CST
DTSTART:20241103T070000
END:STANDARD
BEGIN:DAYLIGHT
TZOFFSETFROM:-0600
TZOFFSETTO:-0500
TZNAME:CDT
DTSTART:20250309T080000
END:DAYLIGHT
BEGIN:STANDARD
TZOFFSETFROM:-0500
TZOFFSETTO:-0600
TZNAME:CST
DTSTART:20251102T070000
END:STANDARD
BEGIN:DAYLIGHT
TZOFFSETFROM:-0600
TZOFFSETTO:-0500
TZNAME:CDT
DTSTART:20260308T080000
END:DAYLIGHT
BEGIN:STANDARD
TZOFFSETFROM:-0500
TZOFFSETTO:-0600
TZNAME:CST
DTSTART:20261101T070000
END:STANDARD
END:VTIMEZONE
BEGIN:VEVENT
DTSTART;TZID=America/Chicago:20251002T110000
DTEND;TZID=America/Chicago:20251002T120000
DTSTAMP:20260421T210744
CREATED:20250915T230214Z
LAST-MODIFIED:20250915T230214Z
UID:6000-1759402800-1759406400@leadhershipglobal.com
SUMMARY:Leveraging AI Assistants:  Automate\, Engage and Scale Your Business
DESCRIPTION:Register for the event \n\nAI-powered assistants are transforming the way businesses communicate\, automate tasks\, and enhance customer experiences. In this masterclass\, you’ll discover how to integrate AI assistants into your workflows to streamline operations\, improve engagement\, and scale efficiently. \nWhat you’ll learn:\n✅ How to set up and customize AI assistants for lead nurturing and customer support\n✅ Automating responses and follow-ups to save time and boost conversions\n✅ Seamlessly integrating AI into your processes for maximum efficiency \nPlus\, you’ll receive a step-by-step guide to implement everything covered—no sales pitch\, just real value!
URL:https://leadhershipglobal.com/event/leveraging-ai-assistants/
LOCATION:Virtual Event
CATEGORIES:Secrets of Scaling
ATTACH;FMTTYPE=image/png:https://leadhershipglobal.com/wp-content/uploads/2025/09/Speaker-Secrets-to-Scaling-Instagram-Post-VF.png
END:VEVENT
END:VCALENDAR