BEGIN:VCALENDAR
VERSION:2.0
PRODID:-//LeadHERship Global - ECPv6.15.20//NONSGML v1.0//EN
CALSCALE:GREGORIAN
METHOD:PUBLISH
X-WR-CALNAME:LeadHERship Global
X-ORIGINAL-URL:https://leadhershipglobal.com
X-WR-CALDESC:Events for LeadHERship Global
REFRESH-INTERVAL;VALUE=DURATION:PT1H
X-Robots-Tag:noindex
X-PUBLISHED-TTL:PT1H
BEGIN:VTIMEZONE
TZID:America/Chicago
BEGIN:DAYLIGHT
TZOFFSETFROM:-0600
TZOFFSETTO:-0500
TZNAME:CDT
DTSTART:20240310T080000
END:DAYLIGHT
BEGIN:STANDARD
TZOFFSETFROM:-0500
TZOFFSETTO:-0600
TZNAME:CST
DTSTART:20241103T070000
END:STANDARD
BEGIN:DAYLIGHT
TZOFFSETFROM:-0600
TZOFFSETTO:-0500
TZNAME:CDT
DTSTART:20250309T080000
END:DAYLIGHT
BEGIN:STANDARD
TZOFFSETFROM:-0500
TZOFFSETTO:-0600
TZNAME:CST
DTSTART:20251102T070000
END:STANDARD
BEGIN:DAYLIGHT
TZOFFSETFROM:-0600
TZOFFSETTO:-0500
TZNAME:CDT
DTSTART:20260308T080000
END:DAYLIGHT
BEGIN:STANDARD
TZOFFSETFROM:-0500
TZOFFSETTO:-0600
TZNAME:CST
DTSTART:20261101T070000
END:STANDARD
END:VTIMEZONE
BEGIN:VEVENT
DTSTART;TZID=America/Chicago:20250904T110000
DTEND;TZID=America/Chicago:20250904T120000
DTSTAMP:20260421T224605
CREATED:20250814T140109Z
LAST-MODIFIED:20250814T141647Z
UID:5944-1756983600-1756987200@leadhershipglobal.com
SUMMARY:Simplify Your Tech\, Amplify Your Impact
DESCRIPTION:Register for the event \n\nAre you feeling stuck and overwhelmed by all the technology choices in your business? You’re not alone! The key to overcoming tech frustration is not starting with software—it’s starting with clarity.  Let’s take a step back and approach technology strategically\, so it serves your vision instead of distracting you from it. \nScaling your business means you are able to control your time\, have an amazing work-life balance\, and have a reliable sales and marketing engine that produces great cash flow.  Come gain insights into how to scale your business! \nIn this workshop\, we are going to roll up our sleeves\, get to work\, and power through any barriers you are facing. We’ll work through your business challenges with your peers to focus on the key issues to scaling your business to the next level. \nYou will leave this workshop with your growth levers identified\, a roadmap to develop scalable systems\, and most importantly\, you’ll have a methodology you can take back to your team as you embark on creating additional scale in your organization.
URL:https://leadhershipglobal.com/event/simplify-your-tech/
LOCATION:Virtual Event
CATEGORIES:Secrets of Scaling
END:VEVENT
END:VCALENDAR