BEGIN:VCALENDAR
VERSION:2.0
PRODID:-//LeadHERship Global - ECPv6.15.20//NONSGML v1.0//EN
CALSCALE:GREGORIAN
METHOD:PUBLISH
X-WR-CALNAME:LeadHERship Global
X-ORIGINAL-URL:https://leadhershipglobal.com
X-WR-CALDESC:Events for LeadHERship Global
REFRESH-INTERVAL;VALUE=DURATION:PT1H
X-Robots-Tag:noindex
X-PUBLISHED-TTL:PT1H
BEGIN:VTIMEZONE
TZID:America/Chicago
BEGIN:DAYLIGHT
TZOFFSETFROM:-0600
TZOFFSETTO:-0500
TZNAME:CDT
DTSTART:20250309T080000
END:DAYLIGHT
BEGIN:STANDARD
TZOFFSETFROM:-0500
TZOFFSETTO:-0600
TZNAME:CST
DTSTART:20251102T070000
END:STANDARD
BEGIN:DAYLIGHT
TZOFFSETFROM:-0600
TZOFFSETTO:-0500
TZNAME:CDT
DTSTART:20260308T080000
END:DAYLIGHT
BEGIN:STANDARD
TZOFFSETFROM:-0500
TZOFFSETTO:-0600
TZNAME:CST
DTSTART:20261101T070000
END:STANDARD
BEGIN:DAYLIGHT
TZOFFSETFROM:-0600
TZOFFSETTO:-0500
TZNAME:CDT
DTSTART:20270314T080000
END:DAYLIGHT
BEGIN:STANDARD
TZOFFSETFROM:-0500
TZOFFSETTO:-0600
TZNAME:CST
DTSTART:20271107T070000
END:STANDARD
END:VTIMEZONE
BEGIN:VEVENT
DTSTART;TZID=America/Chicago:20260106T100000
DTEND;TZID=America/Chicago:20260106T110000
DTSTAMP:20260421T200733
CREATED:20251106T153007Z
LAST-MODIFIED:20251219T230759Z
UID:6070-1767693600-1767697200@leadhershipglobal.com
SUMMARY:LeadHERship Global Council Meeting
DESCRIPTION:Register for the event \nThe LeadHERship Global Council is designed to address the most pressing concerns of members by providing valuable insights and expert guidance from trusted peers and expert speakers. \nIn an atmosphere of trust\, support and encouragement\, Council members can raise the most challenging issues\, ask the toughest questions\, and in return\, the experts offer valuable expertise\, resources\, connections and unbiased guidance to accelerate the success of members. \nThe monthly Council meetings allow members to receive priceless insight about how to solve the hard problems\, what to do with big opportunities\, and how to accelerate their success. Join us! \nThis is a LeadHERship Global event and is open to all members of LeadHERship and prospective members.  Guests\, either women or men\, may attend up to two of our events without being a member. Our membership is only open to women.
URL:https://leadhershipglobal.com/event/council-meeting/
LOCATION:Virtual Event
CATEGORIES:LeadHERship Global Council
ATTACH;FMTTYPE=image/png:https://leadhershipglobal.com/wp-content/uploads/2025/11/Council-Instagram-Post.png
END:VEVENT
END:VCALENDAR