BEGIN:VCALENDAR
VERSION:2.0
PRODID:-//LeadHERship Global - ECPv6.15.20//NONSGML v1.0//EN
CALSCALE:GREGORIAN
METHOD:PUBLISH
X-WR-CALNAME:LeadHERship Global
X-ORIGINAL-URL:https://leadhershipglobal.com
X-WR-CALDESC:Events for LeadHERship Global
REFRESH-INTERVAL;VALUE=DURATION:PT1H
X-Robots-Tag:noindex
X-PUBLISHED-TTL:PT1H
BEGIN:VTIMEZONE
TZID:America/Chicago
BEGIN:DAYLIGHT
TZOFFSETFROM:-0600
TZOFFSETTO:-0500
TZNAME:CDT
DTSTART:20230312T080000
END:DAYLIGHT
BEGIN:STANDARD
TZOFFSETFROM:-0500
TZOFFSETTO:-0600
TZNAME:CST
DTSTART:20231105T070000
END:STANDARD
BEGIN:DAYLIGHT
TZOFFSETFROM:-0600
TZOFFSETTO:-0500
TZNAME:CDT
DTSTART:20240310T080000
END:DAYLIGHT
BEGIN:STANDARD
TZOFFSETFROM:-0500
TZOFFSETTO:-0600
TZNAME:CST
DTSTART:20241103T070000
END:STANDARD
BEGIN:DAYLIGHT
TZOFFSETFROM:-0600
TZOFFSETTO:-0500
TZNAME:CDT
DTSTART:20250309T080000
END:DAYLIGHT
BEGIN:STANDARD
TZOFFSETFROM:-0500
TZOFFSETTO:-0600
TZNAME:CST
DTSTART:20251102T070000
END:STANDARD
BEGIN:DAYLIGHT
TZOFFSETFROM:-0600
TZOFFSETTO:-0500
TZNAME:CDT
DTSTART:20260308T080000
END:DAYLIGHT
BEGIN:STANDARD
TZOFFSETFROM:-0500
TZOFFSETTO:-0600
TZNAME:CST
DTSTART:20261101T070000
END:STANDARD
END:VTIMEZONE
BEGIN:VEVENT
DTSTART;TZID=America/Chicago:20250519T160000
DTEND;TZID=America/Chicago:20250519T170000
DTSTAMP:20260421T073348
CREATED:20250224T003037Z
LAST-MODIFIED:20250425T195019Z
UID:5157-1747670400-1747674000@leadhershipglobal.com
SUMMARY:The Entrepreneurial Exchange
DESCRIPTION:Register for the event \n\n\n\nExperience the transformative power of this mastermind and workshop as we empower you to achieve entrepreneurial success!  This series combines a masterclass offering actionable insights that will propel your business forward with a hands-on workshop where we dive into your unique challenges and opportunities! \nIn this session of The Entrepreneurial Exchange\, we’ll help you shift from chaos to order by understanding the 3 key layers to business governance\, their roles\, and how they work together! You’ll be able to ensure each part is supports your vision and growth plans! \nWithout proper direction an organization risks tension\, conflict\, and chaos. These lead to misaligned expectations\, unnecessary bureaucracy\, increased costs\, delays\, and disappointing results impact internal operations and client relationships \nBut you can discover how to govern for success by bringing 3 often over-looked areas necessary for amplifying excellence and impact into sharp focus: People and Culture\, Systems and Processes\, and Leadership and Management. \nDuring this power-packed roundtable\, you’ll gain the tools\, insights\, and motivation needed to unleash your full entrepreneurial potential\, and create the thriving business you’ve always envisioned! \nJoin Deanne Earle to turn your chaos into order! \n 
URL:https://leadhershipglobal.com/event/the-entrepreneurial-exchange-3/
LOCATION:Virtual Event
CATEGORIES:Business Owners' Roundtable
ATTACH;FMTTYPE=image/png:https://leadhershipglobal.com/wp-content/uploads/2025/02/The-Entrepreneurial-Exchange-IG-Square.png
END:VEVENT
BEGIN:VEVENT
DTSTART;TZID=America/Chicago:20250217T160000
DTEND;TZID=America/Chicago:20250217T170000
DTSTAMP:20260421T073348
CREATED:20250127T172408Z
LAST-MODIFIED:20250127T172520Z
UID:5029-1739808000-1739811600@leadhershipglobal.com
SUMMARY:The Entrepreneurial Exchange
DESCRIPTION:Register for the event \n\n\n\nExperience the transformative power of this mastermind and workshop as we empower you to achieve entrepreneurial success! This series combines a masterclass offering actionable insights that will propel your business forward with a hands-on workshop where we dive into your unique challenges and opportunities! \nDoes your business have a market position that clearly distinguishes it from its competitors?  Being the best in a well-defined niche often results in superior profitability\, growth\, and scale.   Without clearly defining your specialization\, you are unable to compete for clients that are well-suited to your specific services\, win more business and accelerate your growth.  Defining your unique positioning statement can lead to clarifying the firm’s overarching strategy\, making smarter hiring decisions\, defining your ideal client and a sustainable competitive advantage leading to more revenue! \nConnect with like-minded business owners who are facing similar challenges\, creating a powerful network of support and collaboration to support your boldest business dreams. \nDon’t settle for mediocre results or incremental progress. During this power-packed roundtable\, you’ll gain the tools\, insights\, and motivation needed to unleash your full entrepreneurial potential\, and create the thriving business you’ve always envisioned!
URL:https://leadhershipglobal.com/event/the-entrepreneurial-exchange-2/
LOCATION:Virtual Event
CATEGORIES:Business Owners' Roundtable
ATTACH;FMTTYPE=image/png:https://leadhershipglobal.com/wp-content/uploads/2025/01/TEE-Time-Instagram-Post.png
END:VEVENT
BEGIN:VEVENT
DTSTART;TZID=America/Chicago:20250120T160000
DTEND;TZID=America/Chicago:20250120T170000
DTSTAMP:20260421T073348
CREATED:20230827T183138Z
LAST-MODIFIED:20241221T140222Z
UID:3709-1737388800-1737392400@leadhershipglobal.com
SUMMARY:The Entrepreneurial Exchange
DESCRIPTION:Register for the event \n\n\n\n\nExperience the transformative power of this mastermind and workshop as we empower you to achieve entrepreneurial success! This series combines a masterclass offering actionable insights that will propel your business forward with a hands-on workshop where we dive into your unique challenges and opportunities! \nConnect with like-minded business owners who are facing similar challenges\, creating a powerful network of support and collaboration to support your boldest business dreams. \nDon’t settle for mediocre results or incremental progress. During this power-packed roundtable\, you’ll gain the tools\, insights\, and motivation needed to unleash your full entrepreneurial potential\, and create the thriving business you’ve always envisioned!
URL:https://leadhershipglobal.com/event/the-entrepreneurial-exchange/
LOCATION:Virtual Event
CATEGORIES:Business Owners' Roundtable
ATTACH;FMTTYPE=image/png:https://leadhershipglobal.com/wp-content/uploads/2023/08/Business-Owners-Roundtable-Instagram-Post.png
END:VEVENT
BEGIN:VEVENT
DTSTART;TZID=America/Chicago:20241216T160000
DTEND;TZID=America/Chicago:20241216T170000
DTSTAMP:20260421T073348
CREATED:20240327T202409Z
LAST-MODIFIED:20241123T154511Z
UID:3928-1734364800-1734368400@leadhershipglobal.com
SUMMARY:Exit Ready: Preparing Your Business for a Lucrative Farewell
DESCRIPTION:Register for the event \n\nJoin us to explore key topics such as valuation\, risk management\, and growth strategies\, all designed to propel your business forward.  Amanda’s proactive planning and guided implementation process saves valuable time and resources and serves as a safeguard for your business\, fostering sustainable growth both now and into the future. \nJoin us in December for a masterclass all about “Exit Ready: Preparing Your Business for a Lucrative Farewell” \n\nExit Readiness: Assessing your business’s readiness for an exit.\nBuyer Magnetism: Attracting the perfect buyer for your business.\nLegacy Beyond: Ensuring your business legacy endures\, and you’re ready for your third act.\n\nAmanda Bar is an accomplished Advanced Tax\, Exit\, and Value-Growth Strategist\, bringing over 15 years of diverse industry experience. Her distinctive approach seamlessly blends strategic planning with guided implementation. \nWith a mission to empower small business owners\, Amanda provides invaluable access to tax savings\, adaptable exit strategies\, and seamless value growth. Having witnessed the consequences of neglecting fundamental business principles\, Amanda is dedicated to ‘Raising the Bar.’ She dismantles the siloed advisory approach by fostering collaboration with a Network of Specialists. \n  \nThis is a LeadHERship Global event and is open to all members of LeadHERship and prospective members. Guests\, either women or men\, may attend up to two of our events without being a member. Our membership is only open to women.
URL:https://leadhershipglobal.com/event/exit-ready/
LOCATION:Virtual Event
CATEGORIES:Business Owners' Roundtable
ATTACH;FMTTYPE=image/png:https://leadhershipglobal.com/wp-content/uploads/2024/03/Amanda-Business-Owners-Roundtable.png
END:VEVENT
BEGIN:VEVENT
DTSTART;TZID=America/Chicago:20241118T160000
DTEND;TZID=America/Chicago:20241118T170000
DTSTAMP:20260421T073348
CREATED:20240221T192029Z
LAST-MODIFIED:20241031T183358Z
UID:3919-1731945600-1731949200@leadhershipglobal.com
SUMMARY:Business Owners' Roundtable - Innovation: Charting Paths for Value Growth
DESCRIPTION:Register for the event \n\nAmidst the constant demands of business ownership\, prioritizing strategic planning remains a clear priority for sustained success. Whether your business is experiencing rapid growth\, beginning to scale\, or preparing for a transition\, our impactful “Business Owners’ Roundtable” offers invaluable insights into maximizing opportunities and mitigating risks.  \nJoin us in November for “Legacy Builders:  Succession and Transition Mastery” with Advanced Tax\, Exit\, and Value-Growth Strategist – Amanda Bar\, EA\, CEPA and learn:  \n\nSuccessor Superstars: Strategies for identifying and grooming successors.\nTransition Triumph: Executing seamless leadership handovers.\nFamily Dynasty: Overcoming unique challenges in family-owned businesses.\n\nAmanda Bar is an accomplished Advanced Tax\, Exit\, and Value-Growth Strategist\, bringing over 15 years of diverse industry experience. Her distinctive approach seamlessly blends strategic planning with guided implementation. \nWith a mission to empower small business owners\, Amanda provides invaluable access to seamless value growth\, tax savings and adaptable exit strategies. Having witnessed the consequences of neglecting fundamental business principles\, Amanda is dedicated to a proactive planning and guided implementation process that saves valuable time and resources and serves as a safeguard for your business\, fostering sustainable growth both now and into the future. \n  \nThis is a LeadHERship Global event and is open to all members of LeadHERship and prospective members. Guests\, either women or men\, may attend up to two of our events without being a member. Our membership is only open to women.
URL:https://leadhershipglobal.com/event/business-owners-roundtable-innovation-charting-paths-for-value-growth/
LOCATION:Virtual Event
CATEGORIES:Business Owners' Roundtable
ATTACH;FMTTYPE=image/png:https://leadhershipglobal.com/wp-content/uploads/2024/02/11-Nov-LG2.png
END:VEVENT
BEGIN:VEVENT
DTSTART;TZID=America/Chicago:20241021T160000
DTEND;TZID=America/Chicago:20241021T170000
DTSTAMP:20260421T073348
CREATED:20240329T163031Z
LAST-MODIFIED:20240923T151558Z
UID:3944-1729526400-1729530000@leadhershipglobal.com
SUMMARY:Legal Armor - Defending Your Business Empire
DESCRIPTION:Register for the event \n\nIf your company is in the Startup\, Growth\, Mature\, Sale or Transfer phase\, each area has its own unique opportunities and risks with key strategies that can enhance the business.  We’ve made the challenge of navigating each stage of your business easier with our impactful “Business Owners’ Roundtable\,” where we delve into the secrets of valuation\, risk management\, value growth\, exit strategies\, and so much more! \nIn October\, join us to learn about: \n– Contract Mastery: Mitigating risks through powerful contract management.\n– IP Protection: Safeguarding your business’s intellectual treasures.\n– Regulatory Navigation: Steering clear of legal pitfalls in complex landscapes. \nDelve into actionable insights with tangible tools and step-by-step guidance to raise the bar for your business to new heights. This is a hands-on workshop to help you protect and defend your business! \nAmanda Bar is an accomplished Advanced Tax\, Exit\, and Value-Growth Strategist\, bringing over 15 years of diverse industry experience. Her distinctive approach seamlessly blends strategic planning with guided implementation. \nWith a mission to empower small business owners\, Amanda provides invaluable access to tax savings\, adaptable exit strategies\, and seamless value growth. Having witnessed the consequences of neglecting fundamental business principles\, Amanda is dedicated to ‘Raising the Bar.’ She dismantles the siloed advisory approach by fostering collaboration with a Network of Specialists. \nAmanda’s proactive planning and guided implementation process saves valuable time and resources and serves as a safeguard for your business\, fostering sustainable growth both now and into the future. \nThis is a LeadHERship Global event and is open to all members of LeadHERship and prospective members. Guests\, either women or men\, may attend up to two of our events without being a member. Our membership is only open to women.
URL:https://leadhershipglobal.com/event/legal-armor/
LOCATION:Virtual Event
CATEGORIES:Business Owners' Roundtable
ATTACH;FMTTYPE=image/png:https://leadhershipglobal.com/wp-content/uploads/2024/03/Oct-LG2.png
END:VEVENT
BEGIN:VEVENT
DTSTART;TZID=America/Chicago:20240916T160000
DTEND;TZID=America/Chicago:20240916T170000
DTSTAMP:20260421T073348
CREATED:20231228T205159Z
LAST-MODIFIED:20240903T185455Z
UID:3851-1726502400-1726506000@leadhershipglobal.com
SUMMARY:Money Matters:  Mastering Cash Flow for Business Zen
DESCRIPTION:Register for the event \n\nJoin us in September for “Money Matters:  Mastering Cash Flow for Business Zen” with Advanced Tax\, Exit\, and Value-Growth Strategist – Amanda Bar\, EA\, CEPA and learn:  \nYou’ll learn all about: \n– Budgeting: Crafting budgets that propel business growth.\n– Cash Flow Mastery: Strategies for proactive and accurate cash flow management.\n– Financial Fitness: Key indicators for a healthy and thriving business. \nEmbark on a purpose-driven journey with us as we explore actionable insights\, acquire tangible tools\, and leverage a step-by-step action plan to raise the bar for your business to new heights. Our monthly one-hour masterclass is designed to transform beliefs into actions\, producing results in alignment with your goals and objectives. \nAmanda Bar is an accomplished Advanced Tax\, Exit\, and Value-Growth Strategist\, bringing over 15 years of diverse industry experience. Her distinctive approach seamlessly blends strategic planning with guided implementation. \nAmanda’s proactive planning and guided implementation process saves valuable time and resources and serves as a safeguard for your business\, fostering sustainable growth both now and into the future.
URL:https://leadhershipglobal.com/event/business-owners-roundtable-sept/
LOCATION:Virtual Event
CATEGORIES:Business Owners' Roundtable
ATTACH;FMTTYPE=image/png:https://leadhershipglobal.com/wp-content/uploads/2023/12/9-Sept-LG2.png
END:VEVENT
BEGIN:VEVENT
DTSTART;TZID=America/Chicago:20240617T160000
DTEND;TZID=America/Chicago:20240617T170000
DTSTAMP:20260421T073348
CREATED:20240329T163748Z
LAST-MODIFIED:20240513T153403Z
UID:3947-1718640000-1718643600@leadhershipglobal.com
SUMMARY:Business Owners' Roundtable - Value Maximized: Pricing\, Retaining\, and Engaging for Success
DESCRIPTION:Register for the event \n\nBusiness owners have enough to worry about and there always seems to be a never-ending to-do list. Yet\, one of the most important meetings a business owner\, founder\, or an entrepreneur could make is to plan appropriately for today and the future of their business and personal lives. Regardless if your company is in the Startup\, Growth\, Mature\, Sale or Transfer phase\, each area has its own unique opportunities and strategies that can enhance the business\, partnerships\, employees\, and yourself. \nAs we all know\, time is money and generally taking the time to stay educated can be a challenge. We’ve made this challenge easier with our impactful “Business Owners’ Roundtable\,” where we delve into the secrets of valuation\, risk management\, value growth\, exit strategies\, and so much more! \nJoin us in June for “Value Maximized: Pricing\, Retaining\, and Engaging for Success” with Advanced Tax\, Exit\, and Value-Growth Strategist – Amanda Bar\, EA\, CEPA and learn: \n\nPricing Power: Strategies for pricing that enhance value and profit.\nCustomer Liftoff: Maximizing customer lifetime value with stickiness.\nEmployee Enchantment: Boosting business value through engaged teams.\n\nAmanda Bar\, an accomplished Advanced Tax\, Exit\, and Value-Growth Strategist\, brings over 15 years of diverse industry experience. Her approach seamlessly blends strategic planning with guided implementation\, empowering small business owners with tax savings\, adaptable exit strategies\, and seamless value growth. Dedicated to ‘Raising the Bar\,’ Amanda fosters collaboration to safeguard businesses\, ensuring sustainable growth now and into the future. \nThis is a LeadHERship Global event and is open to all members of LeadHERship and prospective members. Guests\, either women or men\, may attend up to two of our events without being a member. Our membership is only open to women.
URL:https://leadhershipglobal.com/event/business-owners-roundtable-value-maximized-pricing-retaining-and-engaging-for-success/
LOCATION:Virtual Event
CATEGORIES:Business Owners' Roundtable
ATTACH;FMTTYPE=image/png:https://leadhershipglobal.com/wp-content/uploads/2024/03/06-BusOwn-YouTube-1.png
END:VEVENT
BEGIN:VEVENT
DTSTART;TZID=America/Chicago:20240219T160000
DTEND;TZID=America/Chicago:20240219T170000
DTSTAMP:20260421T073348
CREATED:20240101T205354Z
LAST-MODIFIED:20240212T155556Z
UID:3873-1708358400-1708362000@leadhershipglobal.com
SUMMARY:Business Owners' Roundtable - Fortify Your Fortress: Risk-Proof Your Business
DESCRIPTION:Register for the event \n\nBusiness owners have enough to worry about and there always seems to be a never-ending to-do list. Yet\, one of the most important meetings a business owner\, founder\, or an entrepreneur could make is to plan appropriately for today and the future of their business and personal lives. Regardless if your company is in the Startup\, Growth\, Mature\, Sale or Transfer phase\, each area has its own unique opportunities and strategies that can enhance the business\, partnerships\, employees\, and yourself. \nAs we all know\, time is money and generally taking the time to stay educated can be a challenge. We’ve made this challenge easier with our impactful “Business Owners’ Roundtable\,” where we delve into the secrets of valuation\, risk management\, value growth\, exit strategies\, and so much more! \nJoin us in February for “Fortify Your Fortress: Risk-Proof Your Business” with Advanced Tax\, Exit\, and Value-Growth Strategist – Amanda Bar\, EA\, CEPA and learn:  \n\nSpotting trouble before it starts: Proactive risk management.\nShields Up: Safeguarding your business against threats.\nTransferring Risk: Turning policies into powerful risk management tools.\n\nIn a world of uncertainties\, business owners face myriad challenges\, and fortifying your fortress against potential risks is paramount. Amanda will share insights on proactive risk management\, shielding your business against threats\, and the strategic transfer of risk\, transforming policies into powerful tools for comprehensive risk management.  \nDon’t miss this opportunity to fortify your business\, enhance its resilience\, and set the stage for sustainable growth. Secure your spot and gain the knowledge needed to navigate the intricacies of risk-proofing your business. \nAmanda Bar is an accomplished Advanced Tax\, Exit\, and Value-Growth Strategist\, bringing over 15 years of diverse industry experience. Her distinctive approach seamlessly blends strategic planning with guided implementation. \nWith a mission to empower small business owners\, Amanda provides invaluable access to tax savings\, adaptable exit strategies\, and seamless value growth. Having witnessed the consequences of neglecting fundamental business principles\, Amanda is dedicated to ‘Raising the Bar.’ She dismantles the siloed advisory approach by fostering collaboration with a Network of Specialists. \nAmanda’s proactive planning and guided implementation process saves valuable time and resources and serves as a safeguard for your business\, fostering sustainable growth both now and into the future.
URL:https://leadhershipglobal.com/event/business-owners-roundtable-fortify-your-fortress-risk-proof-your-business/
LOCATION:Virtual Event
CATEGORIES:Business Owners' Roundtable
ATTACH;FMTTYPE=image/png:https://leadhershipglobal.com/wp-content/uploads/2023/12/Business-Owner-Roundtable-Design_ABar-2.png
END:VEVENT
END:VCALENDAR