BEGIN:VCALENDAR
VERSION:2.0
PRODID:-//LeadHERship Global - ECPv6.15.20//NONSGML v1.0//EN
CALSCALE:GREGORIAN
METHOD:PUBLISH
X-ORIGINAL-URL:https://leadhershipglobal.com
X-WR-CALDESC:Events for LeadHERship Global
REFRESH-INTERVAL;VALUE=DURATION:PT1H
X-Robots-Tag:noindex
X-PUBLISHED-TTL:PT1H
BEGIN:VTIMEZONE
TZID:America/Chicago
BEGIN:DAYLIGHT
TZOFFSETFROM:-0600
TZOFFSETTO:-0500
TZNAME:CDT
DTSTART:20230312T080000
END:DAYLIGHT
BEGIN:STANDARD
TZOFFSETFROM:-0500
TZOFFSETTO:-0600
TZNAME:CST
DTSTART:20231105T070000
END:STANDARD
BEGIN:DAYLIGHT
TZOFFSETFROM:-0600
TZOFFSETTO:-0500
TZNAME:CDT
DTSTART:20240310T080000
END:DAYLIGHT
BEGIN:STANDARD
TZOFFSETFROM:-0500
TZOFFSETTO:-0600
TZNAME:CST
DTSTART:20241103T070000
END:STANDARD
BEGIN:DAYLIGHT
TZOFFSETFROM:-0600
TZOFFSETTO:-0500
TZNAME:CDT
DTSTART:20250309T080000
END:DAYLIGHT
BEGIN:STANDARD
TZOFFSETFROM:-0500
TZOFFSETTO:-0600
TZNAME:CST
DTSTART:20251102T070000
END:STANDARD
END:VTIMEZONE
BEGIN:VEVENT
DTSTART;TZID=America/Chicago:20241216T160000
DTEND;TZID=America/Chicago:20241216T170000
DTSTAMP:20260422T103919
CREATED:20240327T202409Z
LAST-MODIFIED:20241123T154511Z
UID:3928-1734364800-1734368400@leadhershipglobal.com
SUMMARY:Exit Ready: Preparing Your Business for a Lucrative Farewell
DESCRIPTION:Register for the event \n\nJoin us to explore key topics such as valuation\, risk management\, and growth strategies\, all designed to propel your business forward.  Amanda’s proactive planning and guided implementation process saves valuable time and resources and serves as a safeguard for your business\, fostering sustainable growth both now and into the future. \nJoin us in December for a masterclass all about “Exit Ready: Preparing Your Business for a Lucrative Farewell” \n\nExit Readiness: Assessing your business’s readiness for an exit.\nBuyer Magnetism: Attracting the perfect buyer for your business.\nLegacy Beyond: Ensuring your business legacy endures\, and you’re ready for your third act.\n\nAmanda Bar is an accomplished Advanced Tax\, Exit\, and Value-Growth Strategist\, bringing over 15 years of diverse industry experience. Her distinctive approach seamlessly blends strategic planning with guided implementation. \nWith a mission to empower small business owners\, Amanda provides invaluable access to tax savings\, adaptable exit strategies\, and seamless value growth. Having witnessed the consequences of neglecting fundamental business principles\, Amanda is dedicated to ‘Raising the Bar.’ She dismantles the siloed advisory approach by fostering collaboration with a Network of Specialists. \n  \nThis is a LeadHERship Global event and is open to all members of LeadHERship and prospective members. Guests\, either women or men\, may attend up to two of our events without being a member. Our membership is only open to women.
URL:https://leadhershipglobal.com/event/exit-ready/
LOCATION:Virtual Event
CATEGORIES:Business Owners' Roundtable
ATTACH;FMTTYPE=image/png:https://leadhershipglobal.com/wp-content/uploads/2024/03/Amanda-Business-Owners-Roundtable.png
END:VEVENT
END:VCALENDAR