BEGIN:VCALENDAR
VERSION:2.0
PRODID:-//LeadHERship Global - ECPv6.15.20//NONSGML v1.0//EN
CALSCALE:GREGORIAN
METHOD:PUBLISH
X-ORIGINAL-URL:https://leadhershipglobal.com
X-WR-CALDESC:Events for LeadHERship Global
REFRESH-INTERVAL;VALUE=DURATION:PT1H
X-Robots-Tag:noindex
X-PUBLISHED-TTL:PT1H
BEGIN:VTIMEZONE
TZID:America/Chicago
BEGIN:DAYLIGHT
TZOFFSETFROM:-0600
TZOFFSETTO:-0500
TZNAME:CDT
DTSTART:20230312T080000
END:DAYLIGHT
BEGIN:STANDARD
TZOFFSETFROM:-0500
TZOFFSETTO:-0600
TZNAME:CST
DTSTART:20231105T070000
END:STANDARD
BEGIN:DAYLIGHT
TZOFFSETFROM:-0600
TZOFFSETTO:-0500
TZNAME:CDT
DTSTART:20240310T080000
END:DAYLIGHT
BEGIN:STANDARD
TZOFFSETFROM:-0500
TZOFFSETTO:-0600
TZNAME:CST
DTSTART:20241103T070000
END:STANDARD
BEGIN:DAYLIGHT
TZOFFSETFROM:-0600
TZOFFSETTO:-0500
TZNAME:CDT
DTSTART:20250309T080000
END:DAYLIGHT
BEGIN:STANDARD
TZOFFSETFROM:-0500
TZOFFSETTO:-0600
TZNAME:CST
DTSTART:20251102T070000
END:STANDARD
END:VTIMEZONE
BEGIN:VEVENT
DTSTART;TZID=America/Chicago:20241021T160000
DTEND;TZID=America/Chicago:20241021T170000
DTSTAMP:20260422T133746
CREATED:20240329T163031Z
LAST-MODIFIED:20240923T151558Z
UID:3944-1729526400-1729530000@leadhershipglobal.com
SUMMARY:Legal Armor - Defending Your Business Empire
DESCRIPTION:Register for the event \n\nIf your company is in the Startup\, Growth\, Mature\, Sale or Transfer phase\, each area has its own unique opportunities and risks with key strategies that can enhance the business.  We’ve made the challenge of navigating each stage of your business easier with our impactful “Business Owners’ Roundtable\,” where we delve into the secrets of valuation\, risk management\, value growth\, exit strategies\, and so much more! \nIn October\, join us to learn about: \n– Contract Mastery: Mitigating risks through powerful contract management.\n– IP Protection: Safeguarding your business’s intellectual treasures.\n– Regulatory Navigation: Steering clear of legal pitfalls in complex landscapes. \nDelve into actionable insights with tangible tools and step-by-step guidance to raise the bar for your business to new heights. This is a hands-on workshop to help you protect and defend your business! \nAmanda Bar is an accomplished Advanced Tax\, Exit\, and Value-Growth Strategist\, bringing over 15 years of diverse industry experience. Her distinctive approach seamlessly blends strategic planning with guided implementation. \nWith a mission to empower small business owners\, Amanda provides invaluable access to tax savings\, adaptable exit strategies\, and seamless value growth. Having witnessed the consequences of neglecting fundamental business principles\, Amanda is dedicated to ‘Raising the Bar.’ She dismantles the siloed advisory approach by fostering collaboration with a Network of Specialists. \nAmanda’s proactive planning and guided implementation process saves valuable time and resources and serves as a safeguard for your business\, fostering sustainable growth both now and into the future. \nThis is a LeadHERship Global event and is open to all members of LeadHERship and prospective members. Guests\, either women or men\, may attend up to two of our events without being a member. Our membership is only open to women.
URL:https://leadhershipglobal.com/event/legal-armor/
LOCATION:Virtual Event
CATEGORIES:Business Owners' Roundtable
ATTACH;FMTTYPE=image/png:https://leadhershipglobal.com/wp-content/uploads/2024/03/Oct-LG2.png
END:VEVENT
END:VCALENDAR