BEGIN:VCALENDAR
VERSION:2.0
PRODID:-//LeadHERship Global - ECPv6.15.20//NONSGML v1.0//EN
CALSCALE:GREGORIAN
METHOD:PUBLISH
X-ORIGINAL-URL:https://leadhershipglobal.com
X-WR-CALDESC:Events for LeadHERship Global
REFRESH-INTERVAL;VALUE=DURATION:PT1H
X-Robots-Tag:noindex
X-PUBLISHED-TTL:PT1H
BEGIN:VTIMEZONE
TZID:America/Chicago
BEGIN:DAYLIGHT
TZOFFSETFROM:-0600
TZOFFSETTO:-0500
TZNAME:CDT
DTSTART:20240310T080000
END:DAYLIGHT
BEGIN:STANDARD
TZOFFSETFROM:-0500
TZOFFSETTO:-0600
TZNAME:CST
DTSTART:20241103T070000
END:STANDARD
BEGIN:DAYLIGHT
TZOFFSETFROM:-0600
TZOFFSETTO:-0500
TZNAME:CDT
DTSTART:20250309T080000
END:DAYLIGHT
BEGIN:STANDARD
TZOFFSETFROM:-0500
TZOFFSETTO:-0600
TZNAME:CST
DTSTART:20251102T070000
END:STANDARD
BEGIN:DAYLIGHT
TZOFFSETFROM:-0600
TZOFFSETTO:-0500
TZNAME:CDT
DTSTART:20260308T080000
END:DAYLIGHT
BEGIN:STANDARD
TZOFFSETFROM:-0500
TZOFFSETTO:-0600
TZNAME:CST
DTSTART:20261101T070000
END:STANDARD
END:VTIMEZONE
BEGIN:VEVENT
DTSTART;TZID=America/Chicago:20250120T160000
DTEND;TZID=America/Chicago:20250120T170000
DTSTAMP:20260422T070723
CREATED:20230827T183138Z
LAST-MODIFIED:20241221T140222Z
UID:3709-1737388800-1737392400@leadhershipglobal.com
SUMMARY:The Entrepreneurial Exchange
DESCRIPTION:Register for the event \n\n\n\n\nExperience the transformative power of this mastermind and workshop as we empower you to achieve entrepreneurial success! This series combines a masterclass offering actionable insights that will propel your business forward with a hands-on workshop where we dive into your unique challenges and opportunities! \nConnect with like-minded business owners who are facing similar challenges\, creating a powerful network of support and collaboration to support your boldest business dreams. \nDon’t settle for mediocre results or incremental progress. During this power-packed roundtable\, you’ll gain the tools\, insights\, and motivation needed to unleash your full entrepreneurial potential\, and create the thriving business you’ve always envisioned!
URL:https://leadhershipglobal.com/event/the-entrepreneurial-exchange/
LOCATION:Virtual Event
CATEGORIES:Business Owners' Roundtable
ATTACH;FMTTYPE=image/png:https://leadhershipglobal.com/wp-content/uploads/2023/08/Business-Owners-Roundtable-Instagram-Post.png
END:VEVENT
END:VCALENDAR