BEGIN:VCALENDAR
VERSION:2.0
PRODID:-//LeadHERship Global - ECPv6.15.20//NONSGML v1.0//EN
CALSCALE:GREGORIAN
METHOD:PUBLISH
X-WR-CALNAME:LeadHERship Global
X-ORIGINAL-URL:https://leadhershipglobal.com
X-WR-CALDESC:Events for LeadHERship Global
REFRESH-INTERVAL;VALUE=DURATION:PT1H
X-Robots-Tag:noindex
X-PUBLISHED-TTL:PT1H
BEGIN:VTIMEZONE
TZID:America/Chicago
BEGIN:DAYLIGHT
TZOFFSETFROM:-0600
TZOFFSETTO:-0500
TZNAME:CDT
DTSTART:20250309T080000
END:DAYLIGHT
BEGIN:STANDARD
TZOFFSETFROM:-0500
TZOFFSETTO:-0600
TZNAME:CST
DTSTART:20251102T070000
END:STANDARD
BEGIN:DAYLIGHT
TZOFFSETFROM:-0600
TZOFFSETTO:-0500
TZNAME:CDT
DTSTART:20260308T080000
END:DAYLIGHT
BEGIN:STANDARD
TZOFFSETFROM:-0500
TZOFFSETTO:-0600
TZNAME:CST
DTSTART:20261101T070000
END:STANDARD
BEGIN:DAYLIGHT
TZOFFSETFROM:-0600
TZOFFSETTO:-0500
TZNAME:CDT
DTSTART:20270314T080000
END:DAYLIGHT
BEGIN:STANDARD
TZOFFSETFROM:-0500
TZOFFSETTO:-0600
TZNAME:CST
DTSTART:20271107T070000
END:STANDARD
END:VTIMEZONE
BEGIN:VEVENT
DTSTART;TZID=America/Chicago:20260318T160000
DTEND;TZID=America/Chicago:20260318T170000
DTSTAMP:20260421T144749
CREATED:20260208T221453Z
LAST-MODIFIED:20260208T222722Z
UID:6219-1773849600-1773853200@leadhershipglobal.com
SUMMARY:Insider Briefing - Session Four
DESCRIPTION:Register for the event \n\n\n\n\n\n\n\n\nWe kept seeing the same problem – and couldn’t ignore it. \nOver the past several years\, we have kept seeing highly-capable business owners\, business founders and entrepreneurs at every stage of their journey struggling with the same issues. \nNot because they lacked talent\, but because they lacked clear\, trusted navigation. \nToo many opinions.\nNot enough intelligent direction. \nWhat we’ve been building solves the key issue to growing and scaling your business: an AI-driven co-pilot that helps you understand where you are\, what matters next\, and which routes actually make sense – based on real data\, not guesswork. \nAt the upcoming Insider Briefing\, I’ll share how this works\, and why it’s such a powerful shift for our community. \n\n\nLearn more here: https://leadhershipglobal.com/lg-events/members-only/ \n\n 
URL:https://leadhershipglobal.com/event/insider-briefing-session-four/
LOCATION:Virtual Event
CATEGORIES:Breakthrough Power Hour
ATTACH;FMTTYPE=image/jpeg:https://leadhershipglobal.com/wp-content/uploads/2026/01/iStock-1490126110-scaled.jpg
END:VEVENT
END:VCALENDAR