BEGIN:VCALENDAR
VERSION:2.0
PRODID:-//LeadHERship Global - ECPv6.15.20//NONSGML v1.0//EN
CALSCALE:GREGORIAN
METHOD:PUBLISH
X-WR-CALNAME:LeadHERship Global
X-ORIGINAL-URL:https://leadhershipglobal.com
X-WR-CALDESC:Events for LeadHERship Global
REFRESH-INTERVAL;VALUE=DURATION:PT1H
X-Robots-Tag:noindex
X-PUBLISHED-TTL:PT1H
BEGIN:VTIMEZONE
TZID:America/Chicago
BEGIN:DAYLIGHT
TZOFFSETFROM:-0600
TZOFFSETTO:-0500
TZNAME:CDT
DTSTART:20250309T080000
END:DAYLIGHT
BEGIN:STANDARD
TZOFFSETFROM:-0500
TZOFFSETTO:-0600
TZNAME:CST
DTSTART:20251102T070000
END:STANDARD
BEGIN:DAYLIGHT
TZOFFSETFROM:-0600
TZOFFSETTO:-0500
TZNAME:CDT
DTSTART:20260308T080000
END:DAYLIGHT
BEGIN:STANDARD
TZOFFSETFROM:-0500
TZOFFSETTO:-0600
TZNAME:CST
DTSTART:20261101T070000
END:STANDARD
BEGIN:DAYLIGHT
TZOFFSETFROM:-0600
TZOFFSETTO:-0500
TZNAME:CDT
DTSTART:20270314T080000
END:DAYLIGHT
BEGIN:STANDARD
TZOFFSETFROM:-0500
TZOFFSETTO:-0600
TZNAME:CST
DTSTART:20271107T070000
END:STANDARD
END:VTIMEZONE
BEGIN:VEVENT
DTSTART;TZID=America/Chicago:20260312T170000
DTEND;TZID=America/Chicago:20260312T180000
DTSTAMP:20260421T144748
CREATED:20260208T215036Z
LAST-MODIFIED:20260208T221921Z
UID:6214-1773334800-1773338400@leadhershipglobal.com
SUMMARY:Insider Briefing - Session Two
DESCRIPTION:Register for the event \n\n\n\n\n\n\n\n\nWe’re investing in your growth.  Now. \nBecause of what we’ve built\, respected mutual funds\, family offices and venture capital firms have committed significant investment to back the talent coming through LeadHERship Global. \nThat means you. \nBecause most people never fail outright.  They simply plateau.  This is designed to ensure your growth and scale. \nAnd\, I want you in the room for this conversation. \n\n\nLearn more here: https://leadhershipglobal.com/lg-events/members-only/ \n\n 
URL:https://leadhershipglobal.com/event/insider-briefing-session-2/
LOCATION:Virtual Event
CATEGORIES:Breakthrough Power Hour
ATTACH;FMTTYPE=image/jpeg:https://leadhershipglobal.com/wp-content/uploads/2026/01/iStock-1402293859-scaled.jpg
END:VEVENT
END:VCALENDAR