BEGIN:VCALENDAR
VERSION:2.0
PRODID:-//LeadHERship Global - ECPv6.15.20//NONSGML v1.0//EN
CALSCALE:GREGORIAN
METHOD:PUBLISH
X-ORIGINAL-URL:https://leadhershipglobal.com
X-WR-CALDESC:Events for LeadHERship Global
REFRESH-INTERVAL;VALUE=DURATION:PT1H
X-Robots-Tag:noindex
X-PUBLISHED-TTL:PT1H
BEGIN:VTIMEZONE
TZID:America/Chicago
BEGIN:DAYLIGHT
TZOFFSETFROM:-0600
TZOFFSETTO:-0500
TZNAME:CDT
DTSTART:20240310T080000
END:DAYLIGHT
BEGIN:STANDARD
TZOFFSETFROM:-0500
TZOFFSETTO:-0600
TZNAME:CST
DTSTART:20241103T070000
END:STANDARD
BEGIN:DAYLIGHT
TZOFFSETFROM:-0600
TZOFFSETTO:-0500
TZNAME:CDT
DTSTART:20250309T080000
END:DAYLIGHT
BEGIN:STANDARD
TZOFFSETFROM:-0500
TZOFFSETTO:-0600
TZNAME:CST
DTSTART:20251102T070000
END:STANDARD
BEGIN:DAYLIGHT
TZOFFSETFROM:-0600
TZOFFSETTO:-0500
TZNAME:CDT
DTSTART:20260308T080000
END:DAYLIGHT
BEGIN:STANDARD
TZOFFSETFROM:-0500
TZOFFSETTO:-0600
TZNAME:CST
DTSTART:20261101T070000
END:STANDARD
END:VTIMEZONE
BEGIN:VEVENT
DTSTART;TZID=America/Chicago:20250908T160000
DTEND;TZID=America/Chicago:20250908T170000
DTSTAMP:20260422T003617
CREATED:20250804T180941Z
LAST-MODIFIED:20250804T181016Z
UID:5937-1757347200-1757350800@leadhershipglobal.com
SUMMARY:Breakthrough Power Hour:  Energetic Boundaries for High-Achieving Souls
DESCRIPTION:Register for the event \n\n\n\n\nHigh performers often leak energy by managing others’ expectations\, emotional needs\, or agendas. Learn how to reclaim your space without guilt or shutdown.  Attendees will create a “Boundary Audit” using a visual framework to identify three places they’re over giving and craft simple energetic exit strategies. \n\n\n\nThis is a LeadHERship Global event and is open to all members of LeadHERship and prospective members. Guests\, either women or men\, may attend up to two of our events without being a member. Our membership is only open to women.
URL:https://leadhershipglobal.com/event/breakthrough-power-hour-energetic-boundaries-for-high-achieving-souls/
LOCATION:Virtual Event
CATEGORIES:Breakthrough Power Hour
ATTACH;FMTTYPE=image/png:https://leadhershipglobal.com/wp-content/uploads/2024/06/Eva-Vennari-Instagram-Post.png
END:VEVENT
END:VCALENDAR