BEGIN:VCALENDAR
VERSION:2.0
PRODID:-//LeadHERship Global - ECPv6.15.20//NONSGML v1.0//EN
CALSCALE:GREGORIAN
METHOD:PUBLISH
X-ORIGINAL-URL:https://leadhershipglobal.com
X-WR-CALDESC:Events for LeadHERship Global
REFRESH-INTERVAL;VALUE=DURATION:PT1H
X-Robots-Tag:noindex
X-PUBLISHED-TTL:PT1H
BEGIN:VTIMEZONE
TZID:America/Chicago
BEGIN:DAYLIGHT
TZOFFSETFROM:-0600
TZOFFSETTO:-0500
TZNAME:CDT
DTSTART:20240310T080000
END:DAYLIGHT
BEGIN:STANDARD
TZOFFSETFROM:-0500
TZOFFSETTO:-0600
TZNAME:CST
DTSTART:20241103T070000
END:STANDARD
BEGIN:DAYLIGHT
TZOFFSETFROM:-0600
TZOFFSETTO:-0500
TZNAME:CDT
DTSTART:20250309T080000
END:DAYLIGHT
BEGIN:STANDARD
TZOFFSETFROM:-0500
TZOFFSETTO:-0600
TZNAME:CST
DTSTART:20251102T070000
END:STANDARD
BEGIN:DAYLIGHT
TZOFFSETFROM:-0600
TZOFFSETTO:-0500
TZNAME:CDT
DTSTART:20260308T080000
END:DAYLIGHT
BEGIN:STANDARD
TZOFFSETFROM:-0500
TZOFFSETTO:-0600
TZNAME:CST
DTSTART:20261101T070000
END:STANDARD
END:VTIMEZONE
BEGIN:VEVENT
DTSTART;TZID=America/Chicago:20250728T160000
DTEND;TZID=America/Chicago:20250728T170000
DTSTAMP:20260422T021055
CREATED:20240624T182824Z
LAST-MODIFIED:20250627T142932Z
UID:4028-1753718400-1753722000@leadhershipglobal.com
SUMMARY:Breakthrough Power Hour:  Energetics of Excellence
DESCRIPTION:Register for the event \n\nImpactful Excellence Through True Holistic Healing \nLearn how physical symptoms\, emotional patterns\, and energetic blocks all speak the same language—and how listening with clarity unlocks aligned momentum.  Attendees will map a single recurring symptom or issue across the physical-emotional-energetic spectrum and identify what it’s really trying to resolve. \n  \nThis is a LeadHERship Global event and is open to all members of LeadHERship and prospective members. Guests\, either women or men\, may attend up to two of our events without being a member. Our membership is only open to women.
URL:https://leadhershipglobal.com/event/energetics-of-excellence/
LOCATION:Virtual Event
CATEGORIES:Breakthrough Power Hour
ATTACH;FMTTYPE=image/png:https://leadhershipglobal.com/wp-content/uploads/2024/06/Eva-Vennari-Instagram-Post.png
END:VEVENT
END:VCALENDAR