BEGIN:VCALENDAR
VERSION:2.0
PRODID:-//LeadHERship Global - ECPv6.15.20//NONSGML v1.0//EN
CALSCALE:GREGORIAN
METHOD:PUBLISH
X-WR-CALNAME:LeadHERship Global
X-ORIGINAL-URL:https://leadhershipglobal.com
X-WR-CALDESC:Events for LeadHERship Global
REFRESH-INTERVAL;VALUE=DURATION:PT1H
X-Robots-Tag:noindex
X-PUBLISHED-TTL:PT1H
BEGIN:VTIMEZONE
TZID:America/Chicago
BEGIN:DAYLIGHT
TZOFFSETFROM:-0600
TZOFFSETTO:-0500
TZNAME:CDT
DTSTART:20240310T080000
END:DAYLIGHT
BEGIN:STANDARD
TZOFFSETFROM:-0500
TZOFFSETTO:-0600
TZNAME:CST
DTSTART:20241103T070000
END:STANDARD
BEGIN:DAYLIGHT
TZOFFSETFROM:-0600
TZOFFSETTO:-0500
TZNAME:CDT
DTSTART:20250309T080000
END:DAYLIGHT
BEGIN:STANDARD
TZOFFSETFROM:-0500
TZOFFSETTO:-0600
TZNAME:CST
DTSTART:20251102T070000
END:STANDARD
BEGIN:DAYLIGHT
TZOFFSETFROM:-0600
TZOFFSETTO:-0500
TZNAME:CDT
DTSTART:20260308T080000
END:DAYLIGHT
BEGIN:STANDARD
TZOFFSETFROM:-0500
TZOFFSETTO:-0600
TZNAME:CST
DTSTART:20261101T070000
END:STANDARD
END:VTIMEZONE
BEGIN:VEVENT
DTSTART;TZID=America/Chicago:20250526T160000
DTEND;TZID=America/Chicago:20250526T173000
DTSTAMP:20260422T053746
CREATED:20250312T022739Z
LAST-MODIFIED:20250503T212150Z
UID:5197-1748275200-1748280600@leadhershipglobal.com
SUMMARY:Break Through Sales Barriers and Unlock Your Selling Genius
DESCRIPTION:Register for the event\n\n\nBreak Through Sales Barriers and Unlock Your Selling Genius \nSales barriers can significantly hinder your business growth. This session will help you identify and overcome these obstacles\, unlocking your true selling potential and driving your business to new heights. \nWhat You’ll Discover: \n\nIdentifying Sales Blocks: Learn to recognize the common obstacles\, limiting concepts and fears that are impeding your sales performance\, from mindset issues to practical challenges.\nEffective Client Enrollment Strategies: Discover proven techniques and strategies to overcome unconscious sales blocks\, enhancing your ability to close deals and increase revenue.\nMastering Persuasion: Gain insights into service-oriented persuasion techniques that can help you effectively communicate your value proposition and win over clients.\nProactive Mindset For Sustainable Growth: Implement practices that support continuous improvement and long-term success in your sales efforts\n\n 
URL:https://leadhershipglobal.com/event/unlock-your-selling-genius/
LOCATION:Virtual Event
CATEGORIES:Breakthrough Power Hour
ATTACH;FMTTYPE=image/png:https://leadhershipglobal.com/wp-content/uploads/2024/07/Dagmar-Fleming-Square.png
END:VEVENT
END:VCALENDAR