BEGIN:VCALENDAR
VERSION:2.0
PRODID:-//LeadHERship Global - ECPv6.15.20//NONSGML v1.0//EN
CALSCALE:GREGORIAN
METHOD:PUBLISH
X-WR-CALNAME:LeadHERship Global
X-ORIGINAL-URL:https://leadhershipglobal.com
X-WR-CALDESC:Events for LeadHERship Global
REFRESH-INTERVAL;VALUE=DURATION:PT1H
X-Robots-Tag:noindex
X-PUBLISHED-TTL:PT1H
BEGIN:VTIMEZONE
TZID:America/Chicago
BEGIN:DAYLIGHT
TZOFFSETFROM:-0600
TZOFFSETTO:-0500
TZNAME:CDT
DTSTART:20240310T080000
END:DAYLIGHT
BEGIN:STANDARD
TZOFFSETFROM:-0500
TZOFFSETTO:-0600
TZNAME:CST
DTSTART:20241103T070000
END:STANDARD
BEGIN:DAYLIGHT
TZOFFSETFROM:-0600
TZOFFSETTO:-0500
TZNAME:CDT
DTSTART:20250309T080000
END:DAYLIGHT
BEGIN:STANDARD
TZOFFSETFROM:-0500
TZOFFSETTO:-0600
TZNAME:CST
DTSTART:20251102T070000
END:STANDARD
BEGIN:DAYLIGHT
TZOFFSETFROM:-0600
TZOFFSETTO:-0500
TZNAME:CDT
DTSTART:20260308T080000
END:DAYLIGHT
BEGIN:STANDARD
TZOFFSETFROM:-0500
TZOFFSETTO:-0600
TZNAME:CST
DTSTART:20261101T070000
END:STANDARD
END:VTIMEZONE
BEGIN:VEVENT
DTSTART;TZID=America/Chicago:20250805T100000
DTEND;TZID=America/Chicago:20250805T110000
DTSTAMP:20260421T200748
CREATED:20240526T220255Z
LAST-MODIFIED:20250713T172035Z
UID:3982-1754388000-1754391600@leadhershipglobal.com
SUMMARY:Becoming a Go-Giver!
DESCRIPTION:Register for the event \n\nThe Go-Giver Way: Give exceptional value. Enjoy extraordinary results. \nIt is generally agreed upon that entrepreneurship is the engine that drives an economy upwards and is primarily responsible for its growth. \nEntrepreneurs create jobs\, bring better and more affordable products and services to the marketplace\, resulting in greater societal health\, overall wealth and a vastly improved standard of living. \nAnd\, while we treasure the entrepreneur\, you don’t have to start your own business in order to be one. You can be entrepreneurial within a company setting (often called “intrapreneurs”) and can lead from anywhere they happen to be positioned. \nBob Burg\, coauthor of the international bestseller\, The Go-Giver and a much sought-after speaker at sales and leadership conferences\, is committed to inspiring the entrepreneurial spirit in us all. He shows that companies both large and small that conduct their businesses “The Go-Giver Way” are not only of much greater value to their customers; they are also significantly more \nJoin us for an exclusive interview with the original Go Giver\, Bob Burg! \nThis is a LeadHERship Global event and is open to all members of LeadHERship and prospective members. Guests\, either women or men\, may attend up to two of our events without being a member. Our membership is only open to women.
URL:https://leadhershipglobal.com/event/go-giver/
LOCATION:Virtual Event
CATEGORIES:Ask the Experts
ATTACH;FMTTYPE=image/png:https://leadhershipglobal.com/wp-content/uploads/2024/05/Bob-Burg-Instagram-Post.png
END:VEVENT
END:VCALENDAR