BEGIN:VCALENDAR
VERSION:2.0
PRODID:-//LeadHERship Global - ECPv6.15.20//NONSGML v1.0//EN
CALSCALE:GREGORIAN
METHOD:PUBLISH
X-ORIGINAL-URL:https://leadhershipglobal.com
X-WR-CALDESC:Events for LeadHERship Global
REFRESH-INTERVAL;VALUE=DURATION:PT1H
X-Robots-Tag:noindex
X-PUBLISHED-TTL:PT1H
BEGIN:VTIMEZONE
TZID:America/Chicago
BEGIN:DAYLIGHT
TZOFFSETFROM:-0600
TZOFFSETTO:-0500
TZNAME:CDT
DTSTART:20230312T080000
END:DAYLIGHT
BEGIN:STANDARD
TZOFFSETFROM:-0500
TZOFFSETTO:-0600
TZNAME:CST
DTSTART:20231105T070000
END:STANDARD
BEGIN:DAYLIGHT
TZOFFSETFROM:-0600
TZOFFSETTO:-0500
TZNAME:CDT
DTSTART:20240310T080000
END:DAYLIGHT
BEGIN:STANDARD
TZOFFSETFROM:-0500
TZOFFSETTO:-0600
TZNAME:CST
DTSTART:20241103T070000
END:STANDARD
BEGIN:DAYLIGHT
TZOFFSETFROM:-0600
TZOFFSETTO:-0500
TZNAME:CDT
DTSTART:20250309T080000
END:DAYLIGHT
BEGIN:STANDARD
TZOFFSETFROM:-0500
TZOFFSETTO:-0600
TZNAME:CST
DTSTART:20251102T070000
END:STANDARD
END:VTIMEZONE
BEGIN:VEVENT
DTSTART;TZID=America/Chicago:20240919T100000
DTEND;TZID=America/Chicago:20240919T110000
DTSTAMP:20260422T143615
CREATED:20240501T170304Z
LAST-MODIFIED:20240816T152443Z
UID:3962-1726740000-1726743600@leadhershipglobal.com
SUMMARY:Technology and AI Hacks to Empower Your Business
DESCRIPTION:Register for the event \n\nAutomation holds the key to innovation\, and organizations are looking to innovate every corner of their business to improve efficiency and reduce costs.  Automation\, often empowered through AI\, empowers the teams to do more with less.   Find the right tools for your team to automate any manual task or repetitive process\, quickly and easily.  Learn how to automate your systems\, and integrate AI solutions\, to create better experiences for your customers – and employees! \nLearn to identify the essential technologies you need right now\, gain critical insights into the hidden costs associated with “FREE” products\, and discover practical tips to simplify your technology landscape. Walk away with actionable steps to harness technology efficiently and learn the most impactful AI hacks\, ensuring that your automations serve your business goals without draining your resources. \nJoin us to learn to: \n\nAutomate repetitive tasks – Automating repetitive tasks can help streamline workflows\, reduce cycle times\, and eliminate errors. This can lead to improved efficiency\, lower costs\, and increased customer satisfaction.\nIntegrate systems – Integrations and automations can help business processes operate faster\, produce fewer human errors\, and minimize manual data entry.\nAnalyze data – Data science can help organizations automate repetitive tasks\, reduce errors\, and streamline workflows by analyzing data and implementing intelligent systems.\nAnalyze performance – Technology can help collect\, process\, and visualize data and metrics that can help measure and improve business outcomes.\nDefine workflows – Workflows are formalized sequences of processes that help streamline and automate repetitive tasks and increase efficiency.\nDocument best practices – Documenting best practices for using automation tools can serve as a resource for onboarding new team members and maintaining consistency.\n\nJoin us to identify the technology and AI tools you need now\, understand the costs associated with “FREE” products\, and gain tips on how you can simplify your technology!  Join us to gain: \n\nClarity and Confidence: Understand the technology essential for your business success\, demystified and explained in simple terms.\nPersonalized Roadmap: Develop a customized technology plan tailored to your unique business needs\, ensuring you stay on track and in control.\nActionable Insights: Gain practical tools and strategies that you can implement immediately to streamline your operations and boost productivity.\nEmpowerment: Overcome the fear and frustration of technology\, empowering you to focus on what truly matters—making a significant impact and fulfilling your divine purpose.\n\nThis is a LeadHERship Global event and is open to all members of LeadHERship and prospective members. Guests\, either women or men\, may attend up to two of our events without being a member. Our membership is only open to women.
URL:https://leadhershipglobal.com/event/technology-and-ai-hacks-to-empower-your-business/
LOCATION:Virtual Event
CATEGORIES:Ask the Experts
ATTACH;FMTTYPE=image/png:https://leadhershipglobal.com/wp-content/uploads/2024/05/Ask-the-Experts-Sept-Youtube-Banner.png
END:VEVENT
END:VCALENDAR