BEGIN:VCALENDAR
VERSION:2.0
PRODID:-//LeadHERship Global - ECPv6.15.20//NONSGML v1.0//EN
CALSCALE:GREGORIAN
METHOD:PUBLISH
X-WR-CALNAME:LeadHERship Global
X-ORIGINAL-URL:https://leadhershipglobal.com
X-WR-CALDESC:Events for LeadHERship Global
REFRESH-INTERVAL;VALUE=DURATION:PT1H
X-Robots-Tag:noindex
X-PUBLISHED-TTL:PT1H
BEGIN:VTIMEZONE
TZID:America/Chicago
BEGIN:DAYLIGHT
TZOFFSETFROM:-0600
TZOFFSETTO:-0500
TZNAME:CDT
DTSTART:20240310T080000
END:DAYLIGHT
BEGIN:STANDARD
TZOFFSETFROM:-0500
TZOFFSETTO:-0600
TZNAME:CST
DTSTART:20241103T070000
END:STANDARD
BEGIN:DAYLIGHT
TZOFFSETFROM:-0600
TZOFFSETTO:-0500
TZNAME:CDT
DTSTART:20250309T080000
END:DAYLIGHT
BEGIN:STANDARD
TZOFFSETFROM:-0500
TZOFFSETTO:-0600
TZNAME:CST
DTSTART:20251102T070000
END:STANDARD
BEGIN:DAYLIGHT
TZOFFSETFROM:-0600
TZOFFSETTO:-0500
TZNAME:CDT
DTSTART:20260308T080000
END:DAYLIGHT
BEGIN:STANDARD
TZOFFSETFROM:-0500
TZOFFSETTO:-0600
TZNAME:CST
DTSTART:20261101T070000
END:STANDARD
END:VTIMEZONE
BEGIN:VEVENT
DTSTART;TZID=America/Chicago:20250626T110000
DTEND;TZID=America/Chicago:20250626T120000
DTSTAMP:20260421T214119
CREATED:20231229T201711Z
LAST-MODIFIED:20250527T185552Z
UID:3857-1750935600-1750939200@leadhershipglobal.com
SUMMARY:What's Next: How to Hack Your Brain to Get Clarity\, Confidence and Conviction So You Can Live Out Your Purpose Now
DESCRIPTION:Register for the event \n\nMeet the woman who teaches purpose discovery to the military\, celebrities\, and professional athletes. She doesn’t use deep breathing or trust falls. She uses science. In fact\, Gabrielle Bosché has taught purpose discovery to over 100\,000 people around the world. In this dynamic session\, she is going to break down what happens in our brain when we have conviction\, what happens when we lose it\, and how to get it back – fast. Gabrielle is going to give you the decision making framework used by her FBI negotiator clients so that you can make quick choices you don’t regret. Plus she is going to share the 4 questions you must ask and answer to get clarity on your Purpose.
URL:https://leadhershipglobal.com/event/whats-next/
LOCATION:Virtual Event
CATEGORIES:Ask the Experts
ATTACH;FMTTYPE=image/png:https://leadhershipglobal.com/wp-content/uploads/2023/12/Gabrielle-Bosche-Instagram-Post-.png
END:VEVENT
END:VCALENDAR