BEGIN:VCALENDAR
VERSION:2.0
PRODID:-//LeadHERship Global - ECPv6.15.20//NONSGML v1.0//EN
CALSCALE:GREGORIAN
METHOD:PUBLISH
X-WR-CALNAME:LeadHERship Global
X-ORIGINAL-URL:https://leadhershipglobal.com
X-WR-CALDESC:Events for LeadHERship Global
REFRESH-INTERVAL;VALUE=DURATION:PT1H
X-Robots-Tag:noindex
X-PUBLISHED-TTL:PT1H
BEGIN:VTIMEZONE
TZID:America/Chicago
BEGIN:DAYLIGHT
TZOFFSETFROM:-0600
TZOFFSETTO:-0500
TZNAME:CDT
DTSTART:20230312T080000
END:DAYLIGHT
BEGIN:STANDARD
TZOFFSETFROM:-0500
TZOFFSETTO:-0600
TZNAME:CST
DTSTART:20231105T070000
END:STANDARD
BEGIN:DAYLIGHT
TZOFFSETFROM:-0600
TZOFFSETTO:-0500
TZNAME:CDT
DTSTART:20240310T080000
END:DAYLIGHT
BEGIN:STANDARD
TZOFFSETFROM:-0500
TZOFFSETTO:-0600
TZNAME:CST
DTSTART:20241103T070000
END:STANDARD
BEGIN:DAYLIGHT
TZOFFSETFROM:-0600
TZOFFSETTO:-0500
TZNAME:CDT
DTSTART:20250309T080000
END:DAYLIGHT
BEGIN:STANDARD
TZOFFSETFROM:-0500
TZOFFSETTO:-0600
TZNAME:CST
DTSTART:20251102T070000
END:STANDARD
END:VTIMEZONE
BEGIN:VEVENT
DTSTART;TZID=America/Chicago:20240321T100000
DTEND;TZID=America/Chicago:20240321T110000
DTSTAMP:20260422T224645
CREATED:20240205T211334Z
LAST-MODIFIED:20240212T155345Z
UID:3898-1711015200-1711018800@leadhershipglobal.com
SUMMARY:Ask the Experts - Leveraging Your Intuitive Intelligence
DESCRIPTION:Register for the event \n\nGain knowledge about topics directly from experts\, ask questions\, and learn from others’ wisdom\, knowledge and expertise in our “Ask the Experts Roundtable!” Join us as we delve into timely topics intended to grow your leadership\, expand your influence\, and ignite your potential by providing practical information and guidance from experts. \nThis roundtable is designed for women business leaders who are interested in educating themselves to work efficiently and effectively for better business growth! \nJoin us in March as we feature industry experts Kim Woods & Dagmar Fleming\, at our exclusive event\, ‘Leveraging Your Intuitive Intelligence’ which will cover the key components of attending to your intuitive intelligence – such as intuition\, presence\, emotion and self-awareness. \nIntuitive Intelligence helps us solve a problem and make decisions with extraordinary rapidity. It is not about reasoning\, but about knowing how to listen to our unconscious and emotions. In a world where we have prioritized reason and we try to make the mind work like a mathematical algorithm\, sometimes it is intuitive intelligence that can unlock even the most daunting issues.   \nIntuitive intelligence is based on knowledge that we have gathered over the years and that is stored in the unconscious. And this is something that intuitive people know very well. \nIn this engaging conversation\, we’re going to talk about the specific actions to deepen the intersection between energetic intuitive intelligence\, and dynamic leadership to create more joy and help you thrive as a leader! \nKim Woods\, an inspirational Business Strategist and Master Astrologer\, seamlessly blends her extensive corporate background with ancient wisdom. With an MBA and over two decades in the corporate world\, Kim passionately guides her clients\, especially women in business\, to unlock their full potential. Fearlessly intuitive\, she explores Tarot\, Akashic Records\, and flower essences to empower women on their leadership journey.  \nDagmar Fleming\, transformative Success Coach and Mentor\, guides individuals with Unlock Your Success Program and Triple Quantum Reset™. Founder of Athena Circle\, she balances strategic business mindset with an empathic right-brain approach. With decades of experience\, Dagmar passionately nurtures spiritual and emotional healing\, fostering a harmonious fusion of business acumen and empathic wisdom. \nThis is a LeadHERship Global event and is open to all members of LeadHERship and prospective members. Guests\, either women or men\, may attend up to two of our events without being a member. Our membership is only open to women.
URL:https://leadhershipglobal.com/event/ask-the-experts-leveraging-your-intuitive-intelligence/
LOCATION:Virtual Event
CATEGORIES:Ask the Experts
ATTACH;FMTTYPE=image/png:https://leadhershipglobal.com/wp-content/uploads/2024/02/Ask-the-Experts-Mar-YOUTUBE-ORIG.png
END:VEVENT
END:VCALENDAR