BEGIN:VCALENDAR
VERSION:2.0
PRODID:-//LeadHERship Global - ECPv6.15.20//NONSGML v1.0//EN
CALSCALE:GREGORIAN
METHOD:PUBLISH
X-WR-CALNAME:LeadHERship Global
X-ORIGINAL-URL:https://leadhershipglobal.com
X-WR-CALDESC:Events for LeadHERship Global
REFRESH-INTERVAL;VALUE=DURATION:PT1H
X-Robots-Tag:noindex
X-PUBLISHED-TTL:PT1H
BEGIN:VTIMEZONE
TZID:America/Chicago
BEGIN:DAYLIGHT
TZOFFSETFROM:-0600
TZOFFSETTO:-0500
TZNAME:CDT
DTSTART:20230312T080000
END:DAYLIGHT
BEGIN:STANDARD
TZOFFSETFROM:-0500
TZOFFSETTO:-0600
TZNAME:CST
DTSTART:20231105T070000
END:STANDARD
BEGIN:DAYLIGHT
TZOFFSETFROM:-0600
TZOFFSETTO:-0500
TZNAME:CDT
DTSTART:20240310T080000
END:DAYLIGHT
BEGIN:STANDARD
TZOFFSETFROM:-0500
TZOFFSETTO:-0600
TZNAME:CST
DTSTART:20241103T070000
END:STANDARD
BEGIN:DAYLIGHT
TZOFFSETFROM:-0600
TZOFFSETTO:-0500
TZNAME:CDT
DTSTART:20250309T080000
END:DAYLIGHT
BEGIN:STANDARD
TZOFFSETFROM:-0500
TZOFFSETTO:-0600
TZNAME:CST
DTSTART:20251102T070000
END:STANDARD
END:VTIMEZONE
BEGIN:VEVENT
DTSTART;TZID=America/Chicago:20240215T100000
DTEND;TZID=America/Chicago:20240215T110000
DTSTAMP:20260423T001451
CREATED:20231229T200748Z
LAST-MODIFIED:20240212T155511Z
UID:3854-1707991200-1707994800@leadhershipglobal.com
SUMMARY:Ask the Experts - Creating Reliable and Robust Sales Funnels
DESCRIPTION:Register for the event \n\nGain knowledge about topics directly from experts\, ask questions\, and learn from others’ wisdom\, knowledge and expertise in our “Ask the Experts Roundtable!” Join this transformative experience where we delve into timely topics intended to grow your leadership\, expand your influence\, and ignite your potential by providing practical information and guidance from experts.  \nThis roundtable is designed for women business leaders who are interested in educating themselves to work efficiently and effectively for better business growth! \nOur February event\, featuring Barb Sayers and Jennifer Tamborski will position you for new heights with “Creating Reliable and Robust Sales Funnels.” \nJoin us for an exclusive event where industry experts share their insights and strategies to empower your journey and learn how to take your business to new heights with reliable and robust sales funnels! \n\nDive deep into the art and science of attracting high-quality leads. \nDiscover proven strategies that will transform your approach to finding and engaging your ideal clients.\nUnlock the potential of your business with techniques that bring results\, not just prospects. \nLearn insider tips to create stable and impactful revenue streams through the power of email marketing.  \nLearn practical tips to create consistency and reliability in your business.\n\nWith a strong academic background and extensive experience in the field\, Barb Sayers has solidified herself as a skilled professional in email marketing. She holds a Master of Business Administration in Business Administration and Management\, with a particular emphasis in Human Resources. Additionally\, Barb holds several certifications\, has completed extensive education and developed expertise that has shaped her into a highly proficient and versatile marketing copywriter. She works with individuals and businesses through her email marketing company.  \nJennifer Tamborski is the Owner and CEO of a full-service digital marketing agency that helps business owners attract high quality leads and sales for their launches and sales funnels. They have scaled clients to over $1 million in revenue. Jennifer and her team provide “done-for-you” sales funnel and paid traffic management for businesses who sell digital products\, services and training. Jennifer and her team combine the actual big picture strategy with high level creative and excellent implementation to get their clients massive results.
URL:https://leadhershipglobal.com/event/ask-the-experts-creating-reliable-and-robust-sales-funnels/
LOCATION:Virtual Event
CATEGORIES:Ask the Experts
ATTACH;FMTTYPE=image/png:https://leadhershipglobal.com/wp-content/uploads/2023/12/Ask-the-Experts-Feb.png
END:VEVENT
END:VCALENDAR